Workbook

Sheet Einstellungen
A1: Urlaubsplaner 2027 | E1: Bundesländer
A2: Bundesland | B2: Nordrhein-Westfalen | E2: Baden-Württemberg
A3: Spalte in der Feiertagstabelle | B3: =MATCH(B2,Feiertage!$C$1:$R$1,0) -> 10 | E3: Bayern
E4: Berlin
E5: Brandenburg
A6: So geht's | E6: Bremen
A7: 1. | B7: Bundesland oben wählen – die Feiertage in den Monatsblättern passen sich an. | E7: Hamburg
A8: 2. | B8: Im Blatt „Übersicht“ Namen, Jahresurlaub und Resturlaub aus dem Vorjahr eintragen. | E8: Hessen
A9: 3. | B9: In den Monatsblättern je Urlaubstag „U“ eintragen, für einen halben Tag „H“. | E9: Mecklenburg-Vorpommern
A10: 4. | B10: Gezählt werden nur Arbeitstage (Montag bis Freitag ohne gesetzliche Feiertage des gewählten Landes). | E10: Niedersachsen
B11: Regionale Feiertage einzelner Gemeinden, Heiligabend und Silvester sind nicht enthalten. | E11: Nordrhein-Westfalen
B12: Vorlage von personalpro.de – ohne Gewähr. Urlaubsanspruch berechnen: personalpro.de/ratgeber/urlaubsrechner | E12: Rheinland-Pfalz
E13: Saarland
E14: Sachsen
E15: Sachsen-Anhalt
E16: Schleswig-Holstein
E17: Thüringen

Sheet Übersicht
A1: Urlaubsübersicht 2027
A2: ="Bundesland: "&Einstellungen!B2 -> Bundesland: Nordrhein-Westfalen
A4: Name | B4: Jahresurlaub | C4: Resturlaub Vorjahr | D4: Gesamt | E4: Genommen | F4: Rest
D5: =IF(A5="","",N(B5)+N(C5)) | E5: =IF(A5="","",'Januar'!AG5+'Februar'!AG5+'März'!AG5+'April'!AG5+'Mai'!AG5+'Juni'!AG5+'Juli'!AG5+'August'!AG5+'September'!AG5+'Oktober'!AG5+'November'!AG5+'Dezember'!AG5) | F5: =IF(A5="","",D5-E5)
D6: =IF(A6="","",N(B6)+N(C6)) | E6: =IF(A6="","",'Januar'!AG6+'Februar'!AG6+'März'!AG6+'April'!AG6+'Mai'!AG6+'Juni'!AG6+'Juli'!AG6+'August'!AG6+'September'!AG6+'Oktober'!AG6+'November'!AG6+'Dezember'!AG6) | F6: =IF(A6="","",D6-E6)
D7: =IF(A7="","",N(B7)+N(C7)) | E7: =IF(A7="","",'Januar'!AG7+'Februar'!AG7+'März'!AG7+'April'!AG7+'Mai'!AG7+'Juni'!AG7+'Juli'!AG7+'August'!AG7+'September'!AG7+'Oktober'!AG7+'November'!AG7+'Dezember'!AG7) | F7: =IF(A7="","",D7-E7)
D8: =IF(A8="","",N(B8)+N(C8)) | E8: =IF(A8="","",'Januar'!AG8+'Februar'!AG8+'März'!AG8+'April'!AG8+'Mai'!AG8+'Juni'!AG8+'Juli'!AG8+'August'!AG8+'September'!AG8+'Oktober'!AG8+'November'!AG8+'Dezember'!AG8) | F8: =IF(A8="","",D8-E8)
D9: =IF(A9="","",N(B9)+N(C9)) | E9: =IF(A9="","",'Januar'!AG9+'Februar'!AG9+'März'!AG9+'April'!AG9+'Mai'!AG9+'Juni'!AG9+'Juli'!AG9+'August'!AG9+'September'!AG9+'Oktober'!AG9+'November'!AG9+'Dezember'!AG9) | F9: =IF(A9="","",D9-E9)
D10: =IF(A10="","",N(B10)+N(C10)) | E10: =IF(A10="","",'Januar'!AG10+'Februar'!AG10+'März'!AG10+'April'!AG10+'Mai'!AG10+'Juni'!AG10+'Juli'!AG10+'August'!AG10+'September'!AG10+'Oktober'!AG10+'November'!AG10+'Dezember'!AG10) | F10: =IF(A10="","",D10-E10)
D11: =IF(A11="","",N(B11)+N(C11)) | E11: =IF(A11="","",'Januar'!AG11+'Februar'!AG11+'März'!AG11+'April'!AG11+'Mai'!AG11+'Juni'!AG11+'Juli'!AG11+'August'!AG11+'September'!AG11+'Oktober'!AG11+'November'!AG11+'Dezember'!AG11) | F11: =IF(A11="","",D11-E11)
D12: =IF(A12="","",N(B12)+N(C12)) | E12: =IF(A12="","",'Januar'!AG12+'Februar'!AG12+'März'!AG12+'April'!AG12+'Mai'!AG12+'Juni'!AG12+'Juli'!AG12+'August'!AG12+'September'!AG12+'Oktober'!AG12+'November'!AG12+'Dezember'!AG12) | F12: =IF(A12="","",D12-E12)
D13: =IF(A13="","",N(B13)+N(C13)) | E13: =IF(A13="","",'Januar'!AG13+'Februar'!AG13+'März'!AG13+'April'!AG13+'Mai'!AG13+'Juni'!AG13+'Juli'!AG13+'August'!AG13+'September'!AG13+'Oktober'!AG13+'November'!AG13+'Dezember'!AG13) | F13: =IF(A13="","",D13-E13)
D14: =IF(A14="","",N(B14)+N(C14)) | E14: =IF(A14="","",'Januar'!AG14+'Februar'!AG14+'März'!AG14+'April'!AG14+'Mai'!AG14+'Juni'!AG14+'Juli'!AG14+'August'!AG14+'September'!AG14+'Oktober'!AG14+'November'!AG14+'Dezember'!AG14) | F14: =IF(A14="","",D14-E14)
D15: =IF(A15="","",N(B15)+N(C15)) | E15: =IF(A15="","",'Januar'!AG15+'Februar'!AG15+'März'!AG15+'April'!AG15+'Mai'!AG15+'Juni'!AG15+'Juli'!AG15+'August'!AG15+'September'!AG15+'Oktober'!AG15+'November'!AG15+'Dezember'!AG15) | F15: =IF(A15="","",D15-E15)
D16: =IF(A16="","",N(B16)+N(C16)) | E16: =IF(A16="","",'Januar'!AG16+'Februar'!AG16+'März'!AG16+'April'!AG16+'Mai'!AG16+'Juni'!AG16+'Juli'!AG16+'August'!AG16+'September'!AG16+'Oktober'!AG16+'November'!AG16+'Dezember'!AG16) | F16: =IF(A16="","",D16-E16)
... D34: =IF(A34="","",N(B34)+N(C34)) | E34: =IF(A34="","",'Januar'!AG34+'Februar'!AG34+'März'!AG34+'April'!AG34+'Mai'!AG34+'Juni'!AG34+'Juli'!AG34+'August'!AG34+'September'!AG34+'Oktober'!AG34+'November'!AG34+'Dezember'!AG34) | F34: =IF(A34="","",D34-E34)

Sheet Januar
A1: Januar 2027
A2: Feiertag | B2: =IFERROR(IF(INDEX(Feiertage!$C$2:$R$20,MATCH(B$3,Feiertage!$A$2:$A$20,0),Einstellungen!$B$3)="x",INDEX(Feiertage!$B$2:$B$20,MATCH(B$3,Feiertage!$A$2:$A$20,0)),""),"") -> Neujahr | C2: =IFERROR(IF(INDEX(Feiertage!$C$2:$R$20,MATCH(C$3,Feiertage!$A$2:$A$20,0),Einstellungen!$B$3)="x",INDEX(Feiertage!$B$2:$B$20,MATCH(C$3,Feiertage!$A$2:$A$20,0)),""),"") | D2: =IFERROR(IF(INDEX(Feiertage!$C$2:$R$20,MATCH(D$3,Feiertage!$A$2:$A$20,0),Einstellungen!$B$3)="x",INDEX(Feiertage!$B$2:$B$20,MATCH(D$3,Feiertage!$A$2:$A$20,0)),""),"") | E2: =IFERROR(IF(INDEX(Feiertage!$C$2:$R$20,MATCH(E$3,Feiertage!$A$2:$A$20,0),Einstellungen!$B$3)="x",INDEX(Feiertage!$B$2:$B$20,MATCH(E$3,Feiertage!$A$2:$A$20,0)),""),"") | F2: =IFERROR(IF(INDEX(Feiertage!$C$2:$R$20,MATCH(F$3,Feiertage!$A$2:$A$20,0),Einstellungen!$B$3)="x",INDEX(Feiertage!$B$2:$B$20,MATCH(F$3,Feiertage!$A$2:$A$20,0)),""),"") | G2: =IFERROR(IF(INDEX(Feiertage!$C$2:$R$20,MATCH(G$3,Feiertage!$A$2:$A$20,0),Einstellungen!$B$3)="x",INDEX(Feiertage!$B$2:$B$20,MATCH(G$3,Feiertage!$A$2:$A$20,0)),""),"") | H2: =IFERROR(IF(INDEX(Feiertage!$C$2:$R$20,MATCH(H$3,Feiertage!$A$2:$A$20,0),Einstellungen!$B$3)="x",INDEX(Feiertage!$B$2:$B$20,MATCH(H$3,Feiertage!$A$2:$A$20,0)),""),"") | I2: =IFERROR(IF(INDEX(Feiertage!$C$2:$R$20,MATCH(I$3,Feiertage!$A$2:$A$20,0),Einstellungen!$B$3)="x",INDEX(Feiertage!$B$2:$B$20,MATCH(I$3,Feiertage!$A$2:$A$20,0)),""),"") | ... AF2: =IFERROR(IF(INDEX(Feiertage!$C$2:$R$20,MATCH(AF$3,Feiertage!$A$2:$A$20,0),Einstellungen!$B$3)="x",INDEX(Feiertage!$B$2:$B$20,MATCH(AF$3,Feiertage!$A$2:$A$20,0)),""),"")
A3: Datum | B3: =DATE(2027,1,1) -> 46388 | C3: =DATE(2027,1,2) -> 46389 | D3: =DATE(2027,1,3) -> 46390 | E3: =DATE(2027,1,4) -> 46391 | F3: =DATE(2027,1,5) -> 46392 | G3: =DATE(2027,1,6) -> 46393 | H3: =DATE(2027,1,7) -> 46394 | I3: =DATE(2027,1,8) -> 46395 | J3: =DATE(2027,1,9) -> 46396 | K3: =DATE(2027,1,10) -> 46397 | L3: =DATE(2027,1,11) -> 46398 | M3: =DATE(2027,1,12) -> 46399 | N3: =DATE(2027,1,13) -> 46400 | O3: =DATE(2027,1,14) -> 46401 | P3: =DATE(2027,1,15) -> 46402 | Q3: =DATE(2027,1,16) -> 46403 | R3: =DATE(2027,1,17) -> 46404 | S3: =DATE(2027,1,18) -> 46405 | T3: =DATE(2027,1,19) -> 46406 | U3: =DATE(2027,1,20) -> 46407 | V3: =DATE(2027,1,21) -> 46408 | W3: =DATE(2027,1,22) -> 46409 | X3: =DATE(2027,1,23) -> 46410 | Y3: =DATE(2027,1,24) -> 46411 | Z3: =DATE(2027,1,25) -> 46412 | AA3: =DATE(2027,1,26) -> 46413 | AB3: =DATE(2027,1,27) -> 46414 | AC3: =DATE(2027,1,28) -> 46415 | AD3: =DATE(2027,1,29) -> 46416 | AE3: =DATE(2027,1,30) -> 46417 | AF3: =DATE(2027,1,31) -> 46418
A4: Name | B4: Fr | C4: Sa | D4: So | E4: Mo | F4: Di | G4: Mi | H4: Do | I4: Fr | J4: Sa | K4: So | L4: Mo | M4: Di | N4: Mi | O4: Do | P4: Fr | Q4: Sa | R4: So | S4: Mo | T4: Di | U4: Mi | V4: Do | W4: Fr | X4: Sa | Y4: So | Z4: Mo | AA4: Di | AB4: Mi | AC4: Do | AD4: Fr | AE4: Sa | AF4: So | AG4: Tage
A5: =IF('Übersicht'!A5="","",'Übersicht'!A5) | AG5: =SUMPRODUCT((B5:AF5="U")*(B$2:AF$2="")*(B$4:AF$4<>"Sa")*(B$4:AF$4<>"So"))+0.5*SUMPRODUCT((B5:AF5="H")*(B$2:AF$2="")*(B$4:AF$4<>"Sa")*(B$4:AF$4<>"So")) -> 0
A6: =IF('Übersicht'!A6="","",'Übersicht'!A6) | AG6: =SUMPRODUCT((B6:AF6="U")*(B$2:AF$2="")*(B$4:AF$4<>"Sa")*(B$4:AF$4<>"So"))+0.5*SUMPRODUCT((B6:AF6="H")*(B$2:AF$2="")*(B$4:AF$4<>"Sa")*(B$4:AF$4<>"So")) -> 0
A7: =IF('Übersicht'!A7="","",'Übersicht'!A7) | AG7: =SUMPRODUCT((B7:AF7="U")*(B$2:AF$2="")*(B$4:AF$4<>"Sa")*(B$4:AF$4<>"So"))+0.5*SUMPRODUCT((B7:AF7="H")*(B$2:AF$2="")*(B$4:AF$4<>"Sa")*(B$4:AF$4<>"So")) -> 0
A8: =IF('Übersicht'!A8="","",'Übersicht'!A8) | AG8: =SUMPRODUCT((B8:AF8="U")*(B$2:AF$2="")*(B$4:AF$4<>"Sa")*(B$4:AF$4<>"So"))+0.5*SUMPRODUCT((B8:AF8="H")*(B$2:AF$2="")*(B$4:AF$4<>"Sa")*(B$4:AF$4<>"So")) -> 0
A9: =IF('Übersicht'!A9="","",'Übersicht'!A9) | AG9: =SUMPRODUCT((B9:AF9="U")*(B$2:AF$2="")*(B$4:AF$4<>"Sa")*(B$4:AF$4<>"So"))+0.5*SUMPRODUCT((B9:AF9="H")*(B$2:AF$2="")*(B$4:AF$4<>"Sa")*(B$4:AF$4<>"So")) -> 0
A10: =IF('Übersicht'!A10="","",'Übersicht'!A10) | AG10: =SUMPRODUCT((B10:AF10="U")*(B$2:AF$2="")*(B$4:AF$4<>"Sa")*(B$4:AF$4<>"So"))+0.5*SUMPRODUCT((B10:AF10="H")*(B$2:AF$2="")*(B$4:AF$4<>"Sa")*(B$4:AF$4<>"So")) -> 0
A11: =IF('Übersicht'!A11="","",'Übersicht'!A11) | AG11: =SUMPRODUCT((B11:AF11="U")*(B$2:AF$2="")*(B$4:AF$4<>"Sa")*(B$4:AF$4<>"So"))+0.5*SUMPRODUCT((B11:AF11="H")*(B$2:AF$2="")*(B$4:AF$4<>"Sa")*(B$4:AF$4<>"So")) -> 0
A12: =IF('Übersicht'!A12="","",'Übersicht'!A12) | AG12: =SUMPRODUCT((B12:AF12="U")*(B$2:AF$2="")*(B$4:AF$4<>"Sa")*(B$4:AF$4<>"So"))+0.5*SUMPRODUCT((B12:AF12="H")*(B$2:AF$2="")*(B$4:AF$4<>"Sa")*(B$4:AF$4<>"So")) -> 0
A13: =IF('Übersicht'!A13="","",'Übersicht'!A13) | AG13: =SUMPRODUCT((B13:AF13="U")*(B$2:AF$2="")*(B$4:AF$4<>"Sa")*(B$4:AF$4<>"So"))+0.5*SUMPRODUCT((B13:AF13="H")*(B$2:AF$2="")*(B$4:AF$4<>"Sa")*(B$4:AF$4<>"So")) -> 0
A14: =IF('Übersicht'!A14="","",'Übersicht'!A14) | AG14: =SUMPRODUCT((B14:AF14="U")*(B$2:AF$2="")*(B$4:AF$4<>"Sa")*(B$4:AF$4<>"So"))+0.5*SUMPRODUCT((B14:AF14="H")*(B$2:AF$2="")*(B$4:AF$4<>"Sa")*(B$4:AF$4<>"So")) -> 0
A15: =IF('Übersicht'!A15="","",'Übersicht'!A15) | AG15: =SUMPRODUCT((B15:AF15="U")*(B$2:AF$2="")*(B$4:AF$4<>"Sa")*(B$4:AF$4<>"So"))+0.5*SUMPRODUCT((B15:AF15="H")*(B$2:AF$2="")*(B$4:AF$4<>"Sa")*(B$4:AF$4<>"So")) -> 0
A16: =IF('Übersicht'!A16="","",'Übersicht'!A16) | AG16: =SUMPRODUCT((B16:AF16="U")*(B$2:AF$2="")*(B$4:AF$4<>"Sa")*(B$4:AF$4<>"So"))+0.5*SUMPRODUCT((B16:AF16="H")*(B$2:AF$2="")*(B$4:AF$4<>"Sa")*(B$4:AF$4<>"So")) -> 0
... A34: =IF('Übersicht'!A34="","",'Übersicht'!A34) | AG34: =SUMPRODUCT((B34:AF34="U")*(B$2:AF$2="")*(B$4:AF$4<>"Sa")*(B$4:AF$4<>"So"))+0.5*SUMPRODUCT((B34:AF34="H")*(B$2:AF$2="")*(B$4:AF$4<>"Sa")*(B$4:AF$4<>"So")) -> 0

Sheet Februar
A1: Februar 2027
A2: Feiertag | B2: =IFERROR(IF(INDEX(Feiertage!$C$2:$R$20,MATCH(B$3,Feiertage!$A$2:$A$20,0),Einstellungen!$B$3)="x",INDEX(Feiertage!$B$2:$B$20,MATCH(B$3,Feiertage!$A$2:$A$20,0)),""),"") | C2: =IFERROR(IF(INDEX(Feiertage!$C$2:$R$20,MATCH(C$3,Feiertage!$A$2:$A$20,0),Einstellungen!$B$3)="x",INDEX(Feiertage!$B$2:$B$20,MATCH(C$3,Feiertage!$A$2:$A$20,0)),""),"") | D2: =IFERROR(IF(INDEX(Feiertage!$C$2:$R$20,MATCH(D$3,Feiertage!$A$2:$A$20,0),Einstellungen!$B$3)="x",INDEX(Feiertage!$B$2:$B$20,MATCH(D$3,Feiertage!$A$2:$A$20,0)),""),"") | E2: =IFERROR(IF(INDEX(Feiertage!$C$2:$R$20,MATCH(E$3,Feiertage!$A$2:$A$20,0),Einstellungen!$B$3)="x",INDEX(Feiertage!$B$2:$B$20,MATCH(E$3,Feiertage!$A$2:$A$20,0)),""),"") | F2: =IFERROR(IF(INDEX(Feiertage!$C$2:$R$20,MATCH(F$3,Feiertage!$A$2:$A$20,0),Einstellungen!$B$3)="x",INDEX(Feiertage!$B$2:$B$20,MATCH(F$3,Feiertage!$A$2:$A$20,0)),""),"") | G2: =IFERROR(IF(INDEX(Feiertage!$C$2:$R$20,MATCH(G$3,Feiertage!$A$2:$A$20,0),Einstellungen!$B$3)="x",INDEX(Feiertage!$B$2:$B$20,MATCH(G$3,Feiertage!$A$2:$A$20,0)),""),"") | H2: =IFERROR(IF(INDEX(Feiertage!$C$2:$R$20,MATCH(H$3,Feiertage!$A$2:$A$20,0),Einstellungen!$B$3)="x",INDEX(Feiertage!$B$2:$B$20,MATCH(H$3,Feiertage!$A$2:$A$20,0)),""),"") | I2: =IFERROR(IF(INDEX(Feiertage!$C$2:$R$20,MATCH(I$3,Feiertage!$A$2:$A$20,0),Einstellungen!$B$3)="x",INDEX(Feiertage!$B$2:$B$20,MATCH(I$3,Feiertage!$A$2:$A$20,0)),""),"") | ... AC2: =IFERROR(IF(INDEX(Feiertage!$C$2:$R$20,MATCH(AC$3,Feiertage!$A$2:$A$20,0),Einstellungen!$B$3)="x",INDEX(Feiertage!$B$2:$B$20,MATCH(AC$3,Feiertage!$A$2:$A$20,0)),""),"")
A3: Datum | B3: =DATE(2027,2,1) -> 46419 | C3: =DATE(2027,2,2) -> 46420 | D3: =DATE(2027,2,3) -> 46421 | E3: =DATE(2027,2,4) -> 46422 | F3: =DATE(2027,2,5) -> 46423 | G3: =DATE(2027,2,6) -> 46424 | H3: =DATE(2027,2,7) -> 46425 | I3: =DATE(2027,2,8) -> 46426 | J3: =DATE(2027,2,9) -> 46427 | K3: =DATE(2027,2,10) -> 46428 | L3: =DATE(2027,2,11) -> 46429 | M3: =DATE(2027,2,12) -> 46430 | N3: =DATE(2027,2,13) -> 46431 | O3: =DATE(2027,2,14) -> 46432 | P3: =DATE(2027,2,15) -> 46433 | Q3: =DATE(2027,2,16) -> 46434 | R3: =DATE(2027,2,17) -> 46435 | S3: =DATE(2027,2,18) -> 46436 | T3: =DATE(2027,2,19) -> 46437 | U3: =DATE(2027,2,20) -> 46438 | V3: =DATE(2027,2,21) -> 46439 | W3: =DATE(2027,2,22) -> 46440 | X3: =DATE(2027,2,23) -> 46441 | Y3: =DATE(2027,2,24) -> 46442 | Z3: =DATE(2027,2,25) -> 46443 | AA3: =DATE(2027,2,26) -> 46444 | AB3: =DATE(2027,2,27) -> 46445 | AC3: =DATE(2027,2,28) -> 46446
A4: Name | B4: Mo | C4: Di | D4: Mi | E4: Do | F4: Fr | G4: Sa | H4: So | I4: Mo | J4: Di | K4: Mi | L4: Do | M4: Fr | N4: Sa | O4: So | P4: Mo | Q4: Di | R4: Mi | S4: Do | T4: Fr | U4: Sa | V4: So | W4: Mo | X4: Di | Y4: Mi | Z4: Do | AA4: Fr | AB4: Sa | AC4: So | AG4: Tage
A5: =IF('Übersicht'!A5="","",'Übersicht'!A5) | AG5: =SUMPRODUCT((B5:AF5="U")*(B$2:AF$2="")*(B$4:AF$4<>"Sa")*(B$4:AF$4<>"So"))+0.5*SUMPRODUCT((B5:AF5="H")*(B$2:AF$2="")*(B$4:AF$4<>"Sa")*(B$4:AF$4<>"So")) -> 0
A6: =IF('Übersicht'!A6="","",'Übersicht'!A6) | AG6: =SUMPRODUCT((B6:AF6="U")*(B$2:AF$2="")*(B$4:AF$4<>"Sa")*(B$4:AF$4<>"So"))+0.5*SUMPRODUCT((B6:AF6="H")*(B$2:AF$2="")*(B$4:AF$4<>"Sa")*(B$4:AF$4<>"So")) -> 0
A7: =IF('Übersicht'!A7="","",'Übersicht'!A7) | AG7: =SUMPRODUCT((B7:AF7="U")*(B$2:AF$2="")*(B$4:AF$4<>"Sa")*(B$4:AF$4<>"So"))+0.5*SUMPRODUCT((B7:AF7="H")*(B$2:AF$2="")*(B$4:AF$4<>"Sa")*(B$4:AF$4<>"So")) -> 0
A8: =IF('Übersicht'!A8="","",'Übersicht'!A8) | AG8: =SUMPRODUCT((B8:AF8="U")*(B$2:AF$2="")*(B$4:AF$4<>"Sa")*(B$4:AF$4<>"So"))+0.5*SUMPRODUCT((B8:AF8="H")*(B$2:AF$2="")*(B$4:AF$4<>"Sa")*(B$4:AF$4<>"So")) -> 0
A9: =IF('Übersicht'!A9="","",'Übersicht'!A9) | AG9: =SUMPRODUCT((B9:AF9="U")*(B$2:AF$2="")*(B$4:AF$4<>"Sa")*(B$4:AF$4<>"So"))+0.5*SUMPRODUCT((B9:AF9="H")*(B$2:AF$2="")*(B$4:AF$4<>"Sa")*(B$4:AF$4<>"So")) -> 0
A10: =IF('Übersicht'!A10="","",'Übersicht'!A10) | AG10: =SUMPRODUCT((B10:AF10="U")*(B$2:AF$2="")*(B$4:AF$4<>"Sa")*(B$4:AF$4<>"So"))+0.5*SUMPRODUCT((B10:AF10="H")*(B$2:AF$2="")*(B$4:AF$4<>"Sa")*(B$4:AF$4<>"So")) -> 0
A11: =IF('Übersicht'!A11="","",'Übersicht'!A11) | AG11: =SUMPRODUCT((B11:AF11="U")*(B$2:AF$2="")*(B$4:AF$4<>"Sa")*(B$4:AF$4<>"So"))+0.5*SUMPRODUCT((B11:AF11="H")*(B$2:AF$2="")*(B$4:AF$4<>"Sa")*(B$4:AF$4<>"So")) -> 0
A12: =IF('Übersicht'!A12="","",'Übersicht'!A12) | AG12: =SUMPRODUCT((B12:AF12="U")*(B$2:AF$2="")*(B$4:AF$4<>"Sa")*(B$4:AF$4<>"So"))+0.5*SUMPRODUCT((B12:AF12="H")*(B$2:AF$2="")*(B$4:AF$4<>"Sa")*(B$4:AF$4<>"So")) -> 0
A13: =IF('Übersicht'!A13="","",'Übersicht'!A13) | AG13: =SUMPRODUCT((B13:AF13="U")*(B$2:AF$2="")*(B$4:AF$4<>"Sa")*(B$4:AF$4<>"So"))+0.5*SUMPRODUCT((B13:AF13="H")*(B$2:AF$2="")*(B$4:AF$4<>"Sa")*(B$4:AF$4<>"So")) -> 0
A14: =IF('Übersicht'!A14="","",'Übersicht'!A14) | AG14: =SUMPRODUCT((B14:AF14="U")*(B$2:AF$2="")*(B$4:AF$4<>"Sa")*(B$4:AF$4<>"So"))+0.5*SUMPRODUCT((B14:AF14="H")*(B$2:AF$2="")*(B$4:AF$4<>"Sa")*(B$4:AF$4<>"So")) -> 0
A15: =IF('Übersicht'!A15="","",'Übersicht'!A15) | AG15: =SUMPRODUCT((B15:AF15="U")*(B$2:AF$2="")*(B$4:AF$4<>"Sa")*(B$4:AF$4<>"So"))+0.5*SUMPRODUCT((B15:AF15="H")*(B$2:AF$2="")*(B$4:AF$4<>"Sa")*(B$4:AF$4<>"So")) -> 0
A16: =IF('Übersicht'!A16="","",'Übersicht'!A16) | AG16: =SUMPRODUCT((B16:AF16="U")*(B$2:AF$2="")*(B$4:AF$4<>"Sa")*(B$4:AF$4<>"So"))+0.5*SUMPRODUCT((B16:AF16="H")*(B$2:AF$2="")*(B$4:AF$4<>"Sa")*(B$4:AF$4<>"So")) -> 0
... A34: =IF('Übersicht'!A34="","",'Übersicht'!A34) | AG34: =SUMPRODUCT((B34:AF34="U")*(B$2:AF$2="")*(B$4:AF$4<>"Sa")*(B$4:AF$4<>"So"))+0.5*SUMPRODUCT((B34:AF34="H")*(B$2:AF$2="")*(B$4:AF$4<>"Sa")*(B$4:AF$4<>"So")) -> 0

Sheet März
A1: März 2027
A2: Feiertag | B2: =IFERROR(IF(INDEX(Feiertage!$C$2:$R$20,MATCH(B$3,Feiertage!$A$2:$A$20,0),Einstellungen!$B$3)="x",INDEX(Feiertage!$B$2:$B$20,MATCH(B$3,Feiertage!$A$2:$A$20,0)),""),"") | C2: =IFERROR(IF(INDEX(Feiertage!$C$2:$R$20,MATCH(C$3,Feiertage!$A$2:$A$20,0),Einstellungen!$B$3)="x",INDEX(Feiertage!$B$2:$B$20,MATCH(C$3,Feiertage!$A$2:$A$20,0)),""),"") | D2: =IFERROR(IF(INDEX(Feiertage!$C$2:$R$20,MATCH(D$3,Feiertage!$A$2:$A$20,0),Einstellungen!$B$3)="x",INDEX(Feiertage!$B$2:$B$20,MATCH(D$3,Feiertage!$A$2:$A$20,0)),""),"") | E2: =IFERROR(IF(INDEX(Feiertage!$C$2:$R$20,MATCH(E$3,Feiertage!$A$2:$A$20,0),Einstellungen!$B$3)="x",INDEX(Feiertage!$B$2:$B$20,MATCH(E$3,Feiertage!$A$2:$A$20,0)),""),"") | F2: =IFERROR(IF(INDEX(Feiertage!$C$2:$R$20,MATCH(F$3,Feiertage!$A$2:$A$20,0),Einstellungen!$B$3)="x",INDEX(Feiertage!$B$2:$B$20,MATCH(F$3,Feiertage!$A$2:$A$20,0)),""),"") | G2: =IFERROR(IF(INDEX(Feiertage!$C$2:$R$20,MATCH(G$3,Feiertage!$A$2:$A$20,0),Einstellungen!$B$3)="x",INDEX(Feiertage!$B$2:$B$20,MATCH(G$3,Feiertage!$A$2:$A$20,0)),""),"") | H2: =IFERROR(IF(INDEX(Feiertage!$C$2:$R$20,MATCH(H$3,Feiertage!$A$2:$A$20,0),Einstellungen!$B$3)="x",INDEX(Feiertage!$B$2:$B$20,MATCH(H$3,Feiertage!$A$2:$A$20,0)),""),"") | I2: =IFERROR(IF(INDEX(Feiertage!$C$2:$R$20,MATCH(I$3,Feiertage!$A$2:$A$20,0),Einstellungen!$B$3)="x",INDEX(Feiertage!$B$2:$B$20,MATCH(I$3,Feiertage!$A$2:$A$20,0)),""),"") | ... AF2: =IFERROR(IF(INDEX(Feiertage!$C$2:$R$20,MATCH(AF$3,Feiertage!$A$2:$A$20,0),Einstellungen!$B$3)="x",INDEX(Feiertage!$B$2:$B$20,MATCH(AF$3,Feiertage!$A$2:$A$20,0)),""),"")
A3: Datum | B3: =DATE(2027,3,1) -> 46447 | C3: =DATE(2027,3,2) -> 46448 | D3: =DATE(2027,3,3) -> 46449 | E3: =DATE(2027,3,4) -> 46450 | F3: =DATE(2027,3,5) -> 46451 | G3: =DATE(2027,3,6) -> 46452 | H3: =DATE(2027,3,7) -> 46453 | I3: =DATE(2027,3,8) -> 46454 | J3: =DATE(2027,3,9) -> 46455 | K3: =DATE(2027,3,10) -> 46456 | L3: =DATE(2027,3,11) -> 46457 | M3: =DATE(2027,3,12) -> 46458 | N3: =DATE(2027,3,13) -> 46459 | O3: =DATE(2027,3,14) -> 46460 | P3: =DATE(2027,3,15) -> 46461 | Q3: =DATE(2027,3,16) -> 46462 | R3: =DATE(2027,3,17) -> 46463 | S3: =DATE(2027,3,18) -> 46464 | T3: =DATE(2027,3,19) -> 46465 | U3: =DATE(2027,3,20) -> 46466 | V3: =DATE(2027,3,21) -> 46467 | W3: =DATE(2027,3,22) -> 46468 | X3: =DATE(2027,3,23) -> 46469 | Y3: =DATE(2027,3,24) -> 46470 | Z3: =DATE(2027,3,25) -> 46471 | AA3: =DATE(2027,3,26) -> 46472 | AB3: =DATE(2027,3,27) -> 46473 | AC3: =DATE(2027,3,28) -> 46474 | AD3: =DATE(2027,3,29) -> 46475 | AE3: =DATE(2027,3,30) -> 46476 | AF3: =DATE(2027,3,31) -> 46477
A4: Name | B4: Mo | C4: Di | D4: Mi | E4: Do | F4: Fr | G4: Sa | H4: So | I4: Mo | J4: Di | K4: Mi | L4: Do | M4: Fr | N4: Sa | O4: So | P4: Mo | Q4: Di | R4: Mi | S4: Do | T4: Fr | U4: Sa | V4: So | W4: Mo | X4: Di | Y4: Mi | Z4: Do | AA4: Fr | AB4: Sa | AC4: So | AD4: Mo | AE4: Di | AF4: Mi | AG4: Tage
A5: =IF('Übersicht'!A5="","",'Übersicht'!A5) | AG5: =SUMPRODUCT((B5:AF5="U")*(B$2:AF$2="")*(B$4:AF$4<>"Sa")*(B$4:AF$4<>"So"))+0.5*SUMPRODUCT((B5:AF5="H")*(B$2:AF$2="")*(B$4:AF$4<>"Sa")*(B$4:AF$4<>"So")) -> 0
A6: =IF('Übersicht'!A6="","",'Übersicht'!A6) | AG6: =SUMPRODUCT((B6:AF6="U")*(B$2:AF$2="")*(B$4:AF$4<>"Sa")*(B$4:AF$4<>"So"))+0.5*SUMPRODUCT((B6:AF6="H")*(B$2:AF$2="")*(B$4:AF$4<>"Sa")*(B$4:AF$4<>"So")) -> 0
A7: =IF('Übersicht'!A7="","",'Übersicht'!A7) | AG7: =SUMPRODUCT((B7:AF7="U")*(B$2:AF$2="")*(B$4:AF$4<>"Sa")*(B$4:AF$4<>"So"))+0.5*SUMPRODUCT((B7:AF7="H")*(B$2:AF$2="")*(B$4:AF$4<>"Sa")*(B$4:AF$4<>"So")) -> 0
A8: =IF('Übersicht'!A8="","",'Übersicht'!A8) | AG8: =SUMPRODUCT((B8:AF8="U")*(B$2:AF$2="")*(B$4:AF$4<>"Sa")*(B$4:AF$4<>"So"))+0.5*SUMPRODUCT((B8:AF8="H")*(B$2:AF$2="")*(B$4:AF$4<>"Sa")*(B$4:AF$4<>"So")) -> 0
A9: =IF('Übersicht'!A9="","",'Übersicht'!A9) | AG9: =SUMPRODUCT((B9:AF9="U")*(B$2:AF$2="")*(B$4:AF$4<>"Sa")*(B$4:AF$4<>"So"))+0.5*SUMPRODUCT((B9:AF9="H")*(B$2:AF$2="")*(B$4:AF$4<>"Sa")*(B$4:AF$4<>"So")) -> 0
A10: =IF('Übersicht'!A10="","",'Übersicht'!A10) | AG10: =SUMPRODUCT((B10:AF10="U")*(B$2:AF$2="")*(B$4:AF$4<>"Sa")*(B$4:AF$4<>"So"))+0.5*SUMPRODUCT((B10:AF10="H")*(B$2:AF$2="")*(B$4:AF$4<>"Sa")*(B$4:AF$4<>"So")) -> 0
A11: =IF('Übersicht'!A11="","",'Übersicht'!A11) | AG11: =SUMPRODUCT((B11:AF11="U")*(B$2:AF$2="")*(B$4:AF$4<>"Sa")*(B$4:AF$4<>"So"))+0.5*SUMPRODUCT((B11:AF11="H")*(B$2:AF$2="")*(B$4:AF$4<>"Sa")*(B$4:AF$4<>"So")) -> 0
A12: =IF('Übersicht'!A12="","",'Übersicht'!A12) | AG12: =SUMPRODUCT((B12:AF12="U")*(B$2:AF$2="")*(B$4:AF$4<>"Sa")*(B$4:AF$4<>"So"))+0.5*SUMPRODUCT((B12:AF12="H")*(B$2:AF$2="")*(B$4:AF$4<>"Sa")*(B$4:AF$4<>"So")) -> 0
A13: =IF('Übersicht'!A13="","",'Übersicht'!A13) | AG13: =SUMPRODUCT((B13:AF13="U")*(B$2:AF$2="")*(B$4:AF$4<>"Sa")*(B$4:AF$4<>"So"))+0.5*SUMPRODUCT((B13:AF13="H")*(B$2:AF$2="")*(B$4:AF$4<>"Sa")*(B$4:AF$4<>"So")) -> 0
A14: =IF('Übersicht'!A14="","",'Übersicht'!A14) | AG14: =SUMPRODUCT((B14:AF14="U")*(B$2:AF$2="")*(B$4:AF$4<>"Sa")*(B$4:AF$4<>"So"))+0.5*SUMPRODUCT((B14:AF14="H")*(B$2:AF$2="")*(B$4:AF$4<>"Sa")*(B$4:AF$4<>"So")) -> 0
A15: =IF('Übersicht'!A15="","",'Übersicht'!A15) | AG15: =SUMPRODUCT((B15:AF15="U")*(B$2:AF$2="")*(B$4:AF$4<>"Sa")*(B$4:AF$4<>"So"))+0.5*SUMPRODUCT((B15:AF15="H")*(B$2:AF$2="")*(B$4:AF$4<>"Sa")*(B$4:AF$4<>"So")) -> 0
A16: =IF('Übersicht'!A16="","",'Übersicht'!A16) | AG16: =SUMPRODUCT((B16:AF16="U")*(B$2:AF$2="")*(B$4:AF$4<>"Sa")*(B$4:AF$4<>"So"))+0.5*SUMPRODUCT((B16:AF16="H")*(B$2:AF$2="")*(B$4:AF$4<>"Sa")*(B$4:AF$4<>"So")) -> 0
... A34: =IF('Übersicht'!A34="","",'Übersicht'!A34) | AG34: =SUMPRODUCT((B34:AF34="U")*(B$2:AF$2="")*(B$4:AF$4<>"Sa")*(B$4:AF$4<>"So"))+0.5*SUMPRODUCT((B34:AF34="H")*(B$2:AF$2="")*(B$4:AF$4<>"Sa")*(B$4:AF$4<>"So")) -> 0

Sheet April
A1: April 2027
A2: Feiertag | B2: =IFERROR(IF(INDEX(Feiertage!$C$2:$R$20,MATCH(B$3,Feiertage!$A$2:$A$20,0),Einstellungen!$B$3)="x",INDEX(Feiertage!$B$2:$B$20,MATCH(B$3,Feiertage!$A$2:$A$20,0)),""),"") | C2: =IFERROR(IF(INDEX(Feiertage!$C$2:$R$20,MATCH(C$3,Feiertage!$A$2:$A$20,0),Einstellungen!$B$3)="x",INDEX(Feiertage!$B$2:$B$20,MATCH(C$3,Feiertage!$A$2:$A$20,0)),""),"") | D2: =IFERROR(IF(INDEX(Feiertage!$C$2:$R$20,MATCH(D$3,Feiertage!$A$2:$A$20,0),Einstellungen!$B$3)="x",INDEX(Feiertage!$B$2:$B$20,MATCH(D$3,Feiertage!$A$2:$A$20,0)),""),"") | E2: =IFERROR(IF(INDEX(Feiertage!$C$2:$R$20,MATCH(E$3,Feiertage!$A$2:$A$20,0),Einstellungen!$B$3)="x",INDEX(Feiertage!$B$2:$B$20,MATCH(E$3,Feiertage!$A$2:$A$20,0)),""),"") | F2: =IFERROR(IF(INDEX(Feiertage!$C$2:$R$20,MATCH(F$3,Feiertage!$A$2:$A$20,0),Einstellungen!$B$3)="x",INDEX(Feiertage!$B$2:$B$20,MATCH(F$3,Feiertage!$A$2:$A$20,0)),""),"") | G2: =IFERROR(IF(INDEX(Feiertage!$C$2:$R$20,MATCH(G$3,Feiertage!$A$2:$A$20,0),Einstellungen!$B$3)="x",INDEX(Feiertage!$B$2:$B$20,MATCH(G$3,Feiertage!$A$2:$A$20,0)),""),"") | H2: =IFERROR(IF(INDEX(Feiertage!$C$2:$R$20,MATCH(H$3,Feiertage!$A$2:$A$20,0),Einstellungen!$B$3)="x",INDEX(Feiertage!$B$2:$B$20,MATCH(H$3,Feiertage!$A$2:$A$20,0)),""),"") | I2: =IFERROR(IF(INDEX(Feiertage!$C$2:$R$20,MATCH(I$3,Feiertage!$A$2:$A$20,0),Einstellungen!$B$3)="x",INDEX(Feiertage!$B$2:$B$20,MATCH(I$3,Feiertage!$A$2:$A$20,0)),""),"") | ... AE2: =IFERROR(IF(INDEX(Feiertage!$C$2:$R$20,MATCH(AE$3,Feiertage!$A$2:$A$20,0),Einstellungen!$B$3)="x",INDEX(Feiertage!$B$2:$B$20,MATCH(AE$3,Feiertage!$A$2:$A$20,0)),""),"")
A3: Datum | B3: =DATE(2027,4,1) -> 46478 | C3: =DATE(2027,4,2) -> 46479 | D3: =DATE(2027,4,3) -> 46480 | E3: =DATE(2027,4,4) -> 46481 | F3: =DATE(2027,4,5) -> 46482 | G3: =DATE(2027,4,6) -> 46483 | H3: =DATE(2027,4,7) -> 46484 | I3: =DATE(2027,4,8) -> 46485 | J3: =DATE(2027,4,9) -> 46486 | K3: =DATE(2027,4,10) -> 46487 | L3: =DATE(2027,4,11) -> 46488 | M3: =DATE(2027,4,12) -> 46489 | N3: =DATE(2027,4,13) -> 46490 | O3: =DATE(2027,4,14) -> 46491 | P3: =DATE(2027,4,15) -> 46492 | Q3: =DATE(2027,4,16) -> 46493 | R3: =DATE(2027,4,17) -> 46494 | S3: =DATE(2027,4,18) -> 46495 | T3: =DATE(2027,4,19) -> 46496 | U3: =DATE(2027,4,20) -> 46497 | V3: =DATE(2027,4,21) -> 46498 | W3: =DATE(2027,4,22) -> 46499 | X3: =DATE(2027,4,23) -> 46500 | Y3: =DATE(2027,4,24) -> 46501 | Z3: =DATE(2027,4,25) -> 46502 | AA3: =DATE(2027,4,26) -> 46503 | AB3: =DATE(2027,4,27) -> 46504 | AC3: =DATE(2027,4,28) -> 46505 | AD3: =DATE(2027,4,29) -> 46506 | AE3: =DATE(2027,4,30) -> 46507
A4: Name | B4: Do | C4: Fr | D4: Sa | E4: So | F4: Mo | G4: Di | H4: Mi | I4: Do | J4: Fr | K4: Sa | L4: So | M4: Mo | N4: Di | O4: Mi | P4: Do | Q4: Fr | R4: Sa | S4: So | T4: Mo | U4: Di | V4: Mi | W4: Do | X4: Fr | Y4: Sa | Z4: So | AA4: Mo | AB4: Di | AC4: Mi | AD4: Do | AE4: Fr | AG4: Tage
A5: =IF('Übersicht'!A5="","",'Übersicht'!A5) | AG5: =SUMPRODUCT((B5:AF5="U")*(B$2:AF$2="")*(B$4:AF$4<>"Sa")*(B$4:AF$4<>"So"))+0.5*SUMPRODUCT((B5:AF5="H")*(B$2:AF$2="")*(B$4:AF$4<>"Sa")*(B$4:AF$4<>"So")) -> 0
A6: =IF('Übersicht'!A6="","",'Übersicht'!A6) | AG6: =SUMPRODUCT((B6:AF6="U")*(B$2:AF$2="")*(B$4:AF$4<>"Sa")*(B$4:AF$4<>"So"))+0.5*SUMPRODUCT((B6:AF6="H")*(B$2:AF$2="")*(B$4:AF$4<>"Sa")*(B$4:AF$4<>"So")) -> 0
A7: =IF('Übersicht'!A7="","",'Übersicht'!A7) | AG7: =SUMPRODUCT((B7:AF7="U")*(B$2:AF$2="")*(B$4:AF$4<>"Sa")*(B$4:AF$4<>"So"))+0.5*SUMPRODUCT((B7:AF7="H")*(B$2:AF$2="")*(B$4:AF$4<>"Sa")*(B$4:AF$4<>"So")) -> 0
A8: =IF('Übersicht'!A8="","",'Übersicht'!A8) | AG8: =SUMPRODUCT((B8:AF8="U")*(B$2:AF$2="")*(B$4:AF$4<>"Sa")*(B$4:AF$4<>"So"))+0.5*SUMPRODUCT((B8:AF8="H")*(B$2:AF$2="")*(B$4:AF$4<>"Sa")*(B$4:AF$4<>"So")) -> 0
A9: =IF('Übersicht'!A9="","",'Übersicht'!A9) | AG9: =SUMPRODUCT((B9:AF9="U")*(B$2:AF$2="")*(B$4:AF$4<>"Sa")*(B$4:AF$4<>"So"))+0.5*SUMPRODUCT((B9:AF9="H")*(B$2:AF$2="")*(B$4:AF$4<>"Sa")*(B$4:AF$4<>"So")) -> 0
A10: =IF('Übersicht'!A10="","",'Übersicht'!A10) | AG10: =SUMPRODUCT((B10:AF10="U")*(B$2:AF$2="")*(B$4:AF$4<>"Sa")*(B$4:AF$4<>"So"))+0.5*SUMPRODUCT((B10:AF10="H")*(B$2:AF$2="")*(B$4:AF$4<>"Sa")*(B$4:AF$4<>"So")) -> 0
A11: =IF('Übersicht'!A11="","",'Übersicht'!A11) | AG11: =SUMPRODUCT((B11:AF11="U")*(B$2:AF$2="")*(B$4:AF$4<>"Sa")*(B$4:AF$4<>"So"))+0.5*SUMPRODUCT((B11:AF11="H")*(B$2:AF$2="")*(B$4:AF$4<>"Sa")*(B$4:AF$4<>"So")) -> 0
A12: =IF('Übersicht'!A12="","",'Übersicht'!A12) | AG12: =SUMPRODUCT((B12:AF12="U")*(B$2:AF$2="")*(B$4:AF$4<>"Sa")*(B$4:AF$4<>"So"))+0.5*SUMPRODUCT((B12:AF12="H")*(B$2:AF$2="")*(B$4:AF$4<>"Sa")*(B$4:AF$4<>"So")) -> 0
A13: =IF('Übersicht'!A13="","",'Übersicht'!A13) | AG13: =SUMPRODUCT((B13:AF13="U")*(B$2:AF$2="")*(B$4:AF$4<>"Sa")*(B$4:AF$4<>"So"))+0.5*SUMPRODUCT((B13:AF13="H")*(B$2:AF$2="")*(B$4:AF$4<>"Sa")*(B$4:AF$4<>"So")) -> 0
A14: =IF('Übersicht'!A14="","",'Übersicht'!A14) | AG14: =SUMPRODUCT((B14:AF14="U")*(B$2:AF$2="")*(B$4:AF$4<>"Sa")*(B$4:AF$4<>"So"))+0.5*SUMPRODUCT((B14:AF14="H")*(B$2:AF$2="")*(B$4:AF$4<>"Sa")*(B$4:AF$4<>"So")) -> 0
A15: =IF('Übersicht'!A15="","",'Übersicht'!A15) | AG15: =SUMPRODUCT((B15:AF15="U")*(B$2:AF$2="")*(B$4:AF$4<>"Sa")*(B$4:AF$4<>"So"))+0.5*SUMPRODUCT((B15:AF15="H")*(B$2:AF$2="")*(B$4:AF$4<>"Sa")*(B$4:AF$4<>"So")) -> 0
A16: =IF('Übersicht'!A16="","",'Übersicht'!A16) | AG16: =SUMPRODUCT((B16:AF16="U")*(B$2:AF$2="")*(B$4:AF$4<>"Sa")*(B$4:AF$4<>"So"))+0.5*SUMPRODUCT((B16:AF16="H")*(B$2:AF$2="")*(B$4:AF$4<>"Sa")*(B$4:AF$4<>"So")) -> 0
... A34: =IF('Übersicht'!A34="","",'Übersicht'!A34) | AG34: =SUMPRODUCT((B34:AF34="U")*(B$2:AF$2="")*(B$4:AF$4<>"Sa")*(B$4:AF$4<>"So"))+0.5*SUMPRODUCT((B34:AF34="H")*(B$2:AF$2="")*(B$4:AF$4<>"Sa")*(B$4:AF$4<>"So")) -> 0

Sheet Mai
A1: Mai 2027
A2: Feiertag | B2: =IFERROR(IF(INDEX(Feiertage!$C$2:$R$20,MATCH(B$3,Feiertage!$A$2:$A$20,0),Einstellungen!$B$3)="x",INDEX(Feiertage!$B$2:$B$20,MATCH(B$3,Feiertage!$A$2:$A$20,0)),""),"") -> Tag der Arbeit | C2: =IFERROR(IF(INDEX(Feiertage!$C$2:$R$20,MATCH(C$3,Feiertage!$A$2:$A$20,0),Einstellungen!$B$3)="x",INDEX(Feiertage!$B$2:$B$20,MATCH(C$3,Feiertage!$A$2:$A$20,0)),""),"") | D2: =IFERROR(IF(INDEX(Feiertage!$C$2:$R$20,MATCH(D$3,Feiertage!$A$2:$A$20,0),Einstellungen!$B$3)="x",INDEX(Feiertage!$B$2:$B$20,MATCH(D$3,Feiertage!$A$2:$A$20,0)),""),"") | E2: =IFERROR(IF(INDEX(Feiertage!$C$2:$R$20,MATCH(E$3,Feiertage!$A$2:$A$20,0),Einstellungen!$B$3)="x",INDEX(Feiertage!$B$2:$B$20,MATCH(E$3,Feiertage!$A$2:$A$20,0)),""),"") | F2: =IFERROR(IF(INDEX(Feiertage!$C$2:$R$20,MATCH(F$3,Feiertage!$A$2:$A$20,0),Einstellungen!$B$3)="x",INDEX(Feiertage!$B$2:$B$20,MATCH(F$3,Feiertage!$A$2:$A$20,0)),""),"") | G2: =IFERROR(IF(INDEX(Feiertage!$C$2:$R$20,MATCH(G$3,Feiertage!$A$2:$A$20,0),Einstellungen!$B$3)="x",INDEX(Feiertage!$B$2:$B$20,MATCH(G$3,Feiertage!$A$2:$A$20,0)),""),"") -> Christi Himmelfahrt | H2: =IFERROR(IF(INDEX(Feiertage!$C$2:$R$20,MATCH(H$3,Feiertage!$A$2:$A$20,0),Einstellungen!$B$3)="x",INDEX(Feiertage!$B$2:$B$20,MATCH(H$3,Feiertage!$A$2:$A$20,0)),""),"") | I2: =IFERROR(IF(INDEX(Feiertage!$C$2:$R$20,MATCH(I$3,Feiertage!$A$2:$A$20,0),Einstellungen!$B$3)="x",INDEX(Feiertage!$B$2:$B$20,MATCH(I$3,Feiertage!$A$2:$A$20,0)),""),"") | ... AF2: =IFERROR(IF(INDEX(Feiertage!$C$2:$R$20,MATCH(AF$3,Feiertage!$A$2:$A$20,0),Einstellungen!$B$3)="x",INDEX(Feiertage!$B$2:$B$20,MATCH(AF$3,Feiertage!$A$2:$A$20,0)),""),"")
A3: Datum | B3: =DATE(2027,5,1) -> 46508 | C3: =DATE(2027,5,2) -> 46509 | D3: =DATE(2027,5,3) -> 46510 | E3: =DATE(2027,5,4) -> 46511 | F3: =DATE(2027,5,5) -> 46512 | G3: =DATE(2027,5,6) -> 46513 | H3: =DATE(2027,5,7) -> 46514 | I3: =DATE(2027,5,8) -> 46515 | J3: =DATE(2027,5,9) -> 46516 | K3: =DATE(2027,5,10) -> 46517 | L3: =DATE(2027,5,11) -> 46518 | M3: =DATE(2027,5,12) -> 46519 | N3: =DATE(2027,5,13) -> 46520 | O3: =DATE(2027,5,14) -> 46521 | P3: =DATE(2027,5,15) -> 46522 | Q3: =DATE(2027,5,16) -> 46523 | R3: =DATE(2027,5,17) -> 46524 | S3: =DATE(2027,5,18) -> 46525 | T3: =DATE(2027,5,19) -> 46526 | U3: =DATE(2027,5,20) -> 46527 | V3: =DATE(2027,5,21) -> 46528 | W3: =DATE(2027,5,22) -> 46529 | X3: =DATE(2027,5,23) -> 46530 | Y3: =DATE(2027,5,24) -> 46531 | Z3: =DATE(2027,5,25) -> 46532 | AA3: =DATE(2027,5,26) -> 46533 | AB3: =DATE(2027,5,27) -> 46534 | AC3: =DATE(2027,5,28) -> 46535 | AD3: =DATE(2027,5,29) -> 46536 | AE3: =DATE(2027,5,30) -> 46537 | AF3: =DATE(2027,5,31) -> 46538
A4: Name | B4: Sa | C4: So | D4: Mo | E4: Di | F4: Mi | G4: Do | H4: Fr | I4: Sa | J4: So | K4: Mo | L4: Di | M4: Mi | N4: Do | O4: Fr | P4: Sa | Q4: So | R4: Mo | S4: Di | T4: Mi | U4: Do | V4: Fr | W4: Sa | X4: So | Y4: Mo | Z4: Di | AA4: Mi | AB4: Do | AC4: Fr | AD4: Sa | AE4: So | AF4: Mo | AG4: Tage
A5: =IF('Übersicht'!A5="","",'Übersicht'!A5) | AG5: =SUMPRODUCT((B5:AF5="U")*(B$2:AF$2="")*(B$4:AF$4<>"Sa")*(B$4:AF$4<>"So"))+0.5*SUMPRODUCT((B5:AF5="H")*(B$2:AF$2="")*(B$4:AF$4<>"Sa")*(B$4:AF$4<>"So")) -> 0
A6: =IF('Übersicht'!A6="","",'Übersicht'!A6) | AG6: =SUMPRODUCT((B6:AF6="U")*(B$2:AF$2="")*(B$4:AF$4<>"Sa")*(B$4:AF$4<>"So"))+0.5*SUMPRODUCT((B6:AF6="H")*(B$2:AF$2="")*(B$4:AF$4<>"Sa")*(B$4:AF$4<>"So")) -> 0
A7: =IF('Übersicht'!A7="","",'Übersicht'!A7) | AG7: =SUMPRODUCT((B7:AF7="U")*(B$2:AF$2="")*(B$4:AF$4<>"Sa")*(B$4:AF$4<>"So"))+0.5*SUMPRODUCT((B7:AF7="H")*(B$2:AF$2="")*(B$4:AF$4<>"Sa")*(B$4:AF$4<>"So")) -> 0
A8: =IF('Übersicht'!A8="","",'Übersicht'!A8) | AG8: =SUMPRODUCT((B8:AF8="U")*(B$2:AF$2="")*(B$4:AF$4<>"Sa")*(B$4:AF$4<>"So"))+0.5*SUMPRODUCT((B8:AF8="H")*(B$2:AF$2="")*(B$4:AF$4<>"Sa")*(B$4:AF$4<>"So")) -> 0
A9: =IF('Übersicht'!A9="","",'Übersicht'!A9) | AG9: =SUMPRODUCT((B9:AF9="U")*(B$2:AF$2="")*(B$4:AF$4<>"Sa")*(B$4:AF$4<>"So"))+0.5*SUMPRODUCT((B9:AF9="H")*(B$2:AF$2="")*(B$4:AF$4<>"Sa")*(B$4:AF$4<>"So")) -> 0
A10: =IF('Übersicht'!A10="","",'Übersicht'!A10) | AG10: =SUMPRODUCT((B10:AF10="U")*(B$2:AF$2="")*(B$4:AF$4<>"Sa")*(B$4:AF$4<>"So"))+0.5*SUMPRODUCT((B10:AF10="H")*(B$2:AF$2="")*(B$4:AF$4<>"Sa")*(B$4:AF$4<>"So")) -> 0
A11: =IF('Übersicht'!A11="","",'Übersicht'!A11) | AG11: =SUMPRODUCT((B11:AF11="U")*(B$2:AF$2="")*(B$4:AF$4<>"Sa")*(B$4:AF$4<>"So"))+0.5*SUMPRODUCT((B11:AF11="H")*(B$2:AF$2="")*(B$4:AF$4<>"Sa")*(B$4:AF$4<>"So")) -> 0
A12: =IF('Übersicht'!A12="","",'Übersicht'!A12) | AG12: =SUMPRODUCT((B12:AF12="U")*(B$2:AF$2="")*(B$4:AF$4<>"Sa")*(B$4:AF$4<>"So"))+0.5*SUMPRODUCT((B12:AF12="H")*(B$2:AF$2="")*(B$4:AF$4<>"Sa")*(B$4:AF$4<>"So")) -> 0
A13: =IF('Übersicht'!A13="","",'Übersicht'!A13) | AG13: =SUMPRODUCT((B13:AF13="U")*(B$2:AF$2="")*(B$4:AF$4<>"Sa")*(B$4:AF$4<>"So"))+0.5*SUMPRODUCT((B13:AF13="H")*(B$2:AF$2="")*(B$4:AF$4<>"Sa")*(B$4:AF$4<>"So")) -> 0
A14: =IF('Übersicht'!A14="","",'Übersicht'!A14) | AG14: =SUMPRODUCT((B14:AF14="U")*(B$2:AF$2="")*(B$4:AF$4<>"Sa")*(B$4:AF$4<>"So"))+0.5*SUMPRODUCT((B14:AF14="H")*(B$2:AF$2="")*(B$4:AF$4<>"Sa")*(B$4:AF$4<>"So")) -> 0
A15: =IF('Übersicht'!A15="","",'Übersicht'!A15) | AG15: =SUMPRODUCT((B15:AF15="U")*(B$2:AF$2="")*(B$4:AF$4<>"Sa")*(B$4:AF$4<>"So"))+0.5*SUMPRODUCT((B15:AF15="H")*(B$2:AF$2="")*(B$4:AF$4<>"Sa")*(B$4:AF$4<>"So")) -> 0
A16: =IF('Übersicht'!A16="","",'Übersicht'!A16) | AG16: =SUMPRODUCT((B16:AF16="U")*(B$2:AF$2="")*(B$4:AF$4<>"Sa")*(B$4:AF$4<>"So"))+0.5*SUMPRODUCT((B16:AF16="H")*(B$2:AF$2="")*(B$4:AF$4<>"Sa")*(B$4:AF$4<>"So")) -> 0
... A34: =IF('Übersicht'!A34="","",'Übersicht'!A34) | AG34: =SUMPRODUCT((B34:AF34="U")*(B$2:AF$2="")*(B$4:AF$4<>"Sa")*(B$4:AF$4<>"So"))+0.5*SUMPRODUCT((B34:AF34="H")*(B$2:AF$2="")*(B$4:AF$4<>"Sa")*(B$4:AF$4<>"So")) -> 0

Sheet Juni
A1: Juni 2027
A2: Feiertag | B2: =IFERROR(IF(INDEX(Feiertage!$C$2:$R$20,MATCH(B$3,Feiertage!$A$2:$A$20,0),Einstellungen!$B$3)="x",INDEX(Feiertage!$B$2:$B$20,MATCH(B$3,Feiertage!$A$2:$A$20,0)),""),"") | C2: =IFERROR(IF(INDEX(Feiertage!$C$2:$R$20,MATCH(C$3,Feiertage!$A$2:$A$20,0),Einstellungen!$B$3)="x",INDEX(Feiertage!$B$2:$B$20,MATCH(C$3,Feiertage!$A$2:$A$20,0)),""),"") | D2: =IFERROR(IF(INDEX(Feiertage!$C$2:$R$20,MATCH(D$3,Feiertage!$A$2:$A$20,0),Einstellungen!$B$3)="x",INDEX(Feiertage!$B$2:$B$20,MATCH(D$3,Feiertage!$A$2:$A$20,0)),""),"") | E2: =IFERROR(IF(INDEX(Feiertage!$C$2:$R$20,MATCH(E$3,Feiertage!$A$2:$A$20,0),Einstellungen!$B$3)="x",INDEX(Feiertage!$B$2:$B$20,MATCH(E$3,Feiertage!$A$2:$A$20,0)),""),"") | F2: =IFERROR(IF(INDEX(Feiertage!$C$2:$R$20,MATCH(F$3,Feiertage!$A$2:$A$20,0),Einstellungen!$B$3)="x",INDEX(Feiertage!$B$2:$B$20,MATCH(F$3,Feiertage!$A$2:$A$20,0)),""),"") | G2: =IFERROR(IF(INDEX(Feiertage!$C$2:$R$20,MATCH(G$3,Feiertage!$A$2:$A$20,0),Einstellungen!$B$3)="x",INDEX(Feiertage!$B$2:$B$20,MATCH(G$3,Feiertage!$A$2:$A$20,0)),""),"") | H2: =IFERROR(IF(INDEX(Feiertage!$C$2:$R$20,MATCH(H$3,Feiertage!$A$2:$A$20,0),Einstellungen!$B$3)="x",INDEX(Feiertage!$B$2:$B$20,MATCH(H$3,Feiertage!$A$2:$A$20,0)),""),"") | I2: =IFERROR(IF(INDEX(Feiertage!$C$2:$R$20,MATCH(I$3,Feiertage!$A$2:$A$20,0),Einstellungen!$B$3)="x",INDEX(Feiertage!$B$2:$B$20,MATCH(I$3,Feiertage!$A$2:$A$20,0)),""),"") | ... AE2: =IFERROR(IF(INDEX(Feiertage!$C$2:$R$20,MATCH(AE$3,Feiertage!$A$2:$A$20,0),Einstellungen!$B$3)="x",INDEX(Feiertage!$B$2:$B$20,MATCH(AE$3,Feiertage!$A$2:$A$20,0)),""),"")
A3: Datum | B3: =DATE(2027,6,1) -> 46539 | C3: =DATE(2027,6,2) -> 46540 | D3: =DATE(2027,6,3) -> 46541 | E3: =DATE(2027,6,4) -> 46542 | F3: =DATE(2027,6,5) -> 46543 | G3: =DATE(2027,6,6) -> 46544 | H3: =DATE(2027,6,7) -> 46545 | I3: =DATE(2027,6,8) -> 46546 | J3: =DATE(2027,6,9) -> 46547 | K3: =DATE(2027,6,10) -> 46548 | L3: =DATE(2027,6,11) -> 46549 | M3: =DATE(2027,6,12) -> 46550 | N3: =DATE(2027,6,13) -> 46551 | O3: =DATE(2027,6,14) -> 46552 | P3: =DATE(2027,6,15) -> 46553 | Q3: =DATE(2027,6,16) -> 46554 | R3: =DATE(2027,6,17) -> 46555 | S3: =DATE(2027,6,18) -> 46556 | T3: =DATE(2027,6,19) -> 46557 | U3: =DATE(2027,6,20) -> 46558 | V3: =DATE(2027,6,21) -> 46559 | W3: =DATE(2027,6,22) -> 46560 | X3: =DATE(2027,6,23) -> 46561 | Y3: =DATE(2027,6,24) -> 46562 | Z3: =DATE(2027,6,25) -> 46563 | AA3: =DATE(2027,6,26) -> 46564 | AB3: =DATE(2027,6,27) -> 46565 | AC3: =DATE(2027,6,28) -> 46566 | AD3: =DATE(2027,6,29) -> 46567 | AE3: =DATE(2027,6,30) -> 46568
A4: Name | B4: Di | C4: Mi | D4: Do | E4: Fr | F4: Sa | G4: So | H4: Mo | I4: Di | J4: Mi | K4: Do | L4: Fr | M4: Sa | N4: So | O4: Mo | P4: Di | Q4: Mi | R4: Do | S4: Fr | T4: Sa | U4: So | V4: Mo | W4: Di | X4: Mi | Y4: Do | Z4: Fr | AA4: Sa | AB4: So | AC4: Mo | AD4: Di | AE4: Mi | AG4: Tage
A5: =IF('Übersicht'!A5="","",'Übersicht'!A5) | AG5: =SUMPRODUCT((B5:AF5="U")*(B$2:AF$2="")*(B$4:AF$4<>"Sa")*(B$4:AF$4<>"So"))+0.5*SUMPRODUCT((B5:AF5="H")*(B$2:AF$2="")*(B$4:AF$4<>"Sa")*(B$4:AF$4<>"So")) -> 0
A6: =IF('Übersicht'!A6="","",'Übersicht'!A6) | AG6: =SUMPRODUCT((B6:AF6="U")*(B$2:AF$2="")*(B$4:AF$4<>"Sa")*(B$4:AF$4<>"So"))+0.5*SUMPRODUCT((B6:AF6="H")*(B$2:AF$2="")*(B$4:AF$4<>"Sa")*(B$4:AF$4<>"So")) -> 0
A7: =IF('Übersicht'!A7="","",'Übersicht'!A7) | AG7: =SUMPRODUCT((B7:AF7="U")*(B$2:AF$2="")*(B$4:AF$4<>"Sa")*(B$4:AF$4<>"So"))+0.5*SUMPRODUCT((B7:AF7="H")*(B$2:AF$2="")*(B$4:AF$4<>"Sa")*(B$4:AF$4<>"So")) -> 0
A8: =IF('Übersicht'!A8="","",'Übersicht'!A8) | AG8: =SUMPRODUCT((B8:AF8="U")*(B$2:AF$2="")*(B$4:AF$4<>"Sa")*(B$4:AF$4<>"So"))+0.5*SUMPRODUCT((B8:AF8="H")*(B$2:AF$2="")*(B$4:AF$4<>"Sa")*(B$4:AF$4<>"So")) -> 0
A9: =IF('Übersicht'!A9="","",'Übersicht'!A9) | AG9: =SUMPRODUCT((B9:AF9="U")*(B$2:AF$2="")*(B$4:AF$4<>"Sa")*(B$4:AF$4<>"So"))+0.5*SUMPRODUCT((B9:AF9="H")*(B$2:AF$2="")*(B$4:AF$4<>"Sa")*(B$4:AF$4<>"So")) -> 0
A10: =IF('Übersicht'!A10="","",'Übersicht'!A10) | AG10: =SUMPRODUCT((B10:AF10="U")*(B$2:AF$2="")*(B$4:AF$4<>"Sa")*(B$4:AF$4<>"So"))+0.5*SUMPRODUCT((B10:AF10="H")*(B$2:AF$2="")*(B$4:AF$4<>"Sa")*(B$4:AF$4<>"So")) -> 0
A11: =IF('Übersicht'!A11="","",'Übersicht'!A11) | AG11: =SUMPRODUCT((B11:AF11="U")*(B$2:AF$2="")*(B$4:AF$4<>"Sa")*(B$4:AF$4<>"So"))+0.5*SUMPRODUCT((B11:AF11="H")*(B$2:AF$2="")*(B$4:AF$4<>"Sa")*(B$4:AF$4<>"So")) -> 0
A12: =IF('Übersicht'!A12="","",'Übersicht'!A12) | AG12: =SUMPRODUCT((B12:AF12="U")*(B$2:AF$2="")*(B$4:AF$4<>"Sa")*(B$4:AF$4<>"So"))+0.5*SUMPRODUCT((B12:AF12="H")*(B$2:AF$2="")*(B$4:AF$4<>"Sa")*(B$4:AF$4<>"So")) -> 0
A13: =IF('Übersicht'!A13="","",'Übersicht'!A13) | AG13: =SUMPRODUCT((B13:AF13="U")*(B$2:AF$2="")*(B$4:AF$4<>"Sa")*(B$4:AF$4<>"So"))+0.5*SUMPRODUCT((B13:AF13="H")*(B$2:AF$2="")*(B$4:AF$4<>"Sa")*(B$4:AF$4<>"So")) -> 0
A14: =IF('Übersicht'!A14="","",'Übersicht'!A14) | AG14: =SUMPRODUCT((B14:AF14="U")*(B$2:AF$2="")*(B$4:AF$4<>"Sa")*(B$4:AF$4<>"So"))+0.5*SUMPRODUCT((B14:AF14="H")*(B$2:AF$2="")*(B$4:AF$4<>"Sa")*(B$4:AF$4<>"So")) -> 0
A15: =IF('Übersicht'!A15="","",'Übersicht'!A15) | AG15: =SUMPRODUCT((B15:AF15="U")*(B$2:AF$2="")*(B$4:AF$4<>"Sa")*(B$4:AF$4<>"So"))+0.5*SUMPRODUCT((B15:AF15="H")*(B$2:AF$2="")*(B$4:AF$4<>"Sa")*(B$4:AF$4<>"So")) -> 0
A16: =IF('Übersicht'!A16="","",'Übersicht'!A16) | AG16: =SUMPRODUCT((B16:AF16="U")*(B$2:AF$2="")*(B$4:AF$4<>"Sa")*(B$4:AF$4<>"So"))+0.5*SUMPRODUCT((B16:AF16="H")*(B$2:AF$2="")*(B$4:AF$4<>"Sa")*(B$4:AF$4<>"So")) -> 0
... A34: =IF('Übersicht'!A34="","",'Übersicht'!A34) | AG34: =SUMPRODUCT((B34:AF34="U")*(B$2:AF$2="")*(B$4:AF$4<>"Sa")*(B$4:AF$4<>"So"))+0.5*SUMPRODUCT((B34:AF34="H")*(B$2:AF$2="")*(B$4:AF$4<>"Sa")*(B$4:AF$4<>"So")) -> 0

Sheet Juli
A1: Juli 2027
A2: Feiertag | B2: =IFERROR(IF(INDEX(Feiertage!$C$2:$R$20,MATCH(B$3,Feiertage!$A$2:$A$20,0),Einstellungen!$B$3)="x",INDEX(Feiertage!$B$2:$B$20,MATCH(B$3,Feiertage!$A$2:$A$20,0)),""),"") | C2: =IFERROR(IF(INDEX(Feiertage!$C$2:$R$20,MATCH(C$3,Feiertage!$A$2:$A$20,0),Einstellungen!$B$3)="x",INDEX(Feiertage!$B$2:$B$20,MATCH(C$3,Feiertage!$A$2:$A$20,0)),""),"") | D2: =IFERROR(IF(INDEX(Feiertage!$C$2:$R$20,MATCH(D$3,Feiertage!$A$2:$A$20,0),Einstellungen!$B$3)="x",INDEX(Feiertage!$B$2:$B$20,MATCH(D$3,Feiertage!$A$2:$A$20,0)),""),"") | E2: =IFERROR(IF(INDEX(Feiertage!$C$2:$R$20,MATCH(E$3,Feiertage!$A$2:$A$20,0),Einstellungen!$B$3)="x",INDEX(Feiertage!$B$2:$B$20,MATCH(E$3,Feiertage!$A$2:$A$20,0)),""),"") | F2: =IFERROR(IF(INDEX(Feiertage!$C$2:$R$20,MATCH(F$3,Feiertage!$A$2:$A$20,0),Einstellungen!$B$3)="x",INDEX(Feiertage!$B$2:$B$20,MATCH(F$3,Feiertage!$A$2:$A$20,0)),""),"") | G2: =IFERROR(IF(INDEX(Feiertage!$C$2:$R$20,MATCH(G$3,Feiertage!$A$2:$A$20,0),Einstellungen!$B$3)="x",INDEX(Feiertage!$B$2:$B$20,MATCH(G$3,Feiertage!$A$2:$A$20,0)),""),"") | H2: =IFERROR(IF(INDEX(Feiertage!$C$2:$R$20,MATCH(H$3,Feiertage!$A$2:$A$20,0),Einstellungen!$B$3)="x",INDEX(Feiertage!$B$2:$B$20,MATCH(H$3,Feiertage!$A$2:$A$20,0)),""),"") | I2: =IFERROR(IF(INDEX(Feiertage!$C$2:$R$20,MATCH(I$3,Feiertage!$A$2:$A$20,0),Einstellungen!$B$3)="x",INDEX(Feiertage!$B$2:$B$20,MATCH(I$3,Feiertage!$A$2:$A$20,0)),""),"") | ... AF2: =IFERROR(IF(INDEX(Feiertage!$C$2:$R$20,MATCH(AF$3,Feiertage!$A$2:$A$20,0),Einstellungen!$B$3)="x",INDEX(Feiertage!$B$2:$B$20,MATCH(AF$3,Feiertage!$A$2:$A$20,0)),""),"")
A3: Datum | B3: =DATE(2027,7,1) -> 46569 | C3: =DATE(2027,7,2) -> 46570 | D3: =DATE(2027,7,3) -> 46571 | E3: =DATE(2027,7,4) -> 46572 | F3: =DATE(2027,7,5) -> 46573 | G3: =DATE(2027,7,6) -> 46574 | H3: =DATE(2027,7,7) -> 46575 | I3: =DATE(2027,7,8) -> 46576 | J3: =DATE(2027,7,9) -> 46577 | K3: =DATE(2027,7,10) -> 46578 | L3: =DATE(2027,7,11) -> 46579 | M3: =DATE(2027,7,12) -> 46580 | N3: =DATE(2027,7,13) -> 46581 | O3: =DATE(2027,7,14) -> 46582 | P3: =DATE(2027,7,15) -> 46583 | Q3: =DATE(2027,7,16) -> 46584 | R3: =DATE(2027,7,17) -> 46585 | S3: =DATE(2027,7,18) -> 46586 | T3: =DATE(2027,7,19) -> 46587 | U3: =DATE(2027,7,20) -> 46588 | V3: =DATE(2027,7,21) -> 46589 | W3: =DATE(2027,7,22) -> 46590 | X3: =DATE(2027,7,23) -> 46591 | Y3: =DATE(2027,7,24) -> 46592 | Z3: =DATE(2027,7,25) -> 46593 | AA3: =DATE(2027,7,26) -> 46594 | AB3: =DATE(2027,7,27) -> 46595 | AC3: =DATE(2027,7,28) -> 46596 | AD3: =DATE(2027,7,29) -> 46597 | AE3: =DATE(2027,7,30) -> 46598 | AF3: =DATE(2027,7,31) -> 46599
A4: Name | B4: Do | C4: Fr | D4: Sa | E4: So | F4: Mo | G4: Di | H4: Mi | I4: Do | J4: Fr | K4: Sa | L4: So | M4: Mo | N4: Di | O4: Mi | P4: Do | Q4: Fr | R4: Sa | S4: So | T4: Mo | U4: Di | V4: Mi | W4: Do | X4: Fr | Y4: Sa | Z4: So | AA4: Mo | AB4: Di | AC4: Mi | AD4: Do | AE4: Fr | AF4: Sa | AG4: Tage
A5: =IF('Übersicht'!A5="","",'Übersicht'!A5) | AG5: =SUMPRODUCT((B5:AF5="U")*(B$2:AF$2="")*(B$4:AF$4<>"Sa")*(B$4:AF$4<>"So"))+0.5*SUMPRODUCT((B5:AF5="H")*(B$2:AF$2="")*(B$4:AF$4<>"Sa")*(B$4:AF$4<>"So")) -> 0
A6: =IF('Übersicht'!A6="","",'Übersicht'!A6) | AG6: =SUMPRODUCT((B6:AF6="U")*(B$2:AF$2="")*(B$4:AF$4<>"Sa")*(B$4:AF$4<>"So"))+0.5*SUMPRODUCT((B6:AF6="H")*(B$2:AF$2="")*(B$4:AF$4<>"Sa")*(B$4:AF$4<>"So")) -> 0
A7: =IF('Übersicht'!A7="","",'Übersicht'!A7) | AG7: =SUMPRODUCT((B7:AF7="U")*(B$2:AF$2="")*(B$4:AF$4<>"Sa")*(B$4:AF$4<>"So"))+0.5*SUMPRODUCT((B7:AF7="H")*(B$2:AF$2="")*(B$4:AF$4<>"Sa")*(B$4:AF$4<>"So")) -> 0
A8: =IF('Übersicht'!A8="","",'Übersicht'!A8) | AG8: =SUMPRODUCT((B8:AF8="U")*(B$2:AF$2="")*(B$4:AF$4<>"Sa")*(B$4:AF$4<>"So"))+0.5*SUMPRODUCT((B8:AF8="H")*(B$2:AF$2="")*(B$4:AF$4<>"Sa")*(B$4:AF$4<>"So")) -> 0
A9: =IF('Übersicht'!A9="","",'Übersicht'!A9) | AG9: =SUMPRODUCT((B9:AF9="U")*(B$2:AF$2="")*(B$4:AF$4<>"Sa")*(B$4:AF$4<>"So"))+0.5*SUMPRODUCT((B9:AF9="H")*(B$2:AF$2="")*(B$4:AF$4<>"Sa")*(B$4:AF$4<>"So")) -> 0
A10: =IF('Übersicht'!A10="","",'Übersicht'!A10) | AG10: =SUMPRODUCT((B10:AF10="U")*(B$2:AF$2="")*(B$4:AF$4<>"Sa")*(B$4:AF$4<>"So"))+0.5*SUMPRODUCT((B10:AF10="H")*(B$2:AF$2="")*(B$4:AF$4<>"Sa")*(B$4:AF$4<>"So")) -> 0
A11: =IF('Übersicht'!A11="","",'Übersicht'!A11) | AG11: =SUMPRODUCT((B11:AF11="U")*(B$2:AF$2="")*(B$4:AF$4<>"Sa")*(B$4:AF$4<>"So"))+0.5*SUMPRODUCT((B11:AF11="H")*(B$2:AF$2="")*(B$4:AF$4<>"Sa")*(B$4:AF$4<>"So")) -> 0
A12: =IF('Übersicht'!A12="","",'Übersicht'!A12) | AG12: =SUMPRODUCT((B12:AF12="U")*(B$2:AF$2="")*(B$4:AF$4<>"Sa")*(B$4:AF$4<>"So"))+0.5*SUMPRODUCT((B12:AF12="H")*(B$2:AF$2="")*(B$4:AF$4<>"Sa")*(B$4:AF$4<>"So")) -> 0
A13: =IF('Übersicht'!A13="","",'Übersicht'!A13) | AG13: =SUMPRODUCT((B13:AF13="U")*(B$2:AF$2="")*(B$4:AF$4<>"Sa")*(B$4:AF$4<>"So"))+0.5*SUMPRODUCT((B13:AF13="H")*(B$2:AF$2="")*(B$4:AF$4<>"Sa")*(B$4:AF$4<>"So")) -> 0
A14: =IF('Übersicht'!A14="","",'Übersicht'!A14) | AG14: =SUMPRODUCT((B14:AF14="U")*(B$2:AF$2="")*(B$4:AF$4<>"Sa")*(B$4:AF$4<>"So"))+0.5*SUMPRODUCT((B14:AF14="H")*(B$2:AF$2="")*(B$4:AF$4<>"Sa")*(B$4:AF$4<>"So")) -> 0
A15: =IF('Übersicht'!A15="","",'Übersicht'!A15) | AG15: =SUMPRODUCT((B15:AF15="U")*(B$2:AF$2="")*(B$4:AF$4<>"Sa")*(B$4:AF$4<>"So"))+0.5*SUMPRODUCT((B15:AF15="H")*(B$2:AF$2="")*(B$4:AF$4<>"Sa")*(B$4:AF$4<>"So")) -> 0
A16: =IF('Übersicht'!A16="","",'Übersicht'!A16) | AG16: =SUMPRODUCT((B16:AF16="U")*(B$2:AF$2="")*(B$4:AF$4<>"Sa")*(B$4:AF$4<>"So"))+0.5*SUMPRODUCT((B16:AF16="H")*(B$2:AF$2="")*(B$4:AF$4<>"Sa")*(B$4:AF$4<>"So")) -> 0
... A34: =IF('Übersicht'!A34="","",'Übersicht'!A34) | AG34: =SUMPRODUCT((B34:AF34="U")*(B$2:AF$2="")*(B$4:AF$4<>"Sa")*(B$4:AF$4<>"So"))+0.5*SUMPRODUCT((B34:AF34="H")*(B$2:AF$2="")*(B$4:AF$4<>"Sa")*(B$4:AF$4<>"So")) -> 0

Sheet August
A1: August 2027
A2: Feiertag | B2: =IFERROR(IF(INDEX(Feiertage!$C$2:$R$20,MATCH(B$3,Feiertage!$A$2:$A$20,0),Einstellungen!$B$3)="x",INDEX(Feiertage!$B$2:$B$20,MATCH(B$3,Feiertage!$A$2:$A$20,0)),""),"") | C2: =IFERROR(IF(INDEX(Feiertage!$C$2:$R$20,MATCH(C$3,Feiertage!$A$2:$A$20,0),Einstellungen!$B$3)="x",INDEX(Feiertage!$B$2:$B$20,MATCH(C$3,Feiertage!$A$2:$A$20,0)),""),"") | D2: =IFERROR(IF(INDEX(Feiertage!$C$2:$R$20,MATCH(D$3,Feiertage!$A$2:$A$20,0),Einstellungen!$B$3)="x",INDEX(Feiertage!$B$2:$B$20,MATCH(D$3,Feiertage!$A$2:$A$20,0)),""),"") | E2: =IFERROR(IF(INDEX(Feiertage!$C$2:$R$20,MATCH(E$3,Feiertage!$A$2:$A$20,0),Einstellungen!$B$3)="x",INDEX(Feiertage!$B$2:$B$20,MATCH(E$3,Feiertage!$A$2:$A$20,0)),""),"") | F2: =IFERROR(IF(INDEX(Feiertage!$C$2:$R$20,MATCH(F$3,Feiertage!$A$2:$A$20,0),Einstellungen!$B$3)="x",INDEX(Feiertage!$B$2:$B$20,MATCH(F$3,Feiertage!$A$2:$A$20,0)),""),"") | G2: =IFERROR(IF(INDEX(Feiertage!$C$2:$R$20,MATCH(G$3,Feiertage!$A$2:$A$20,0),Einstellungen!$B$3)="x",INDEX(Feiertage!$B$2:$B$20,MATCH(G$3,Feiertage!$A$2:$A$20,0)),""),"") | H2: =IFERROR(IF(INDEX(Feiertage!$C$2:$R$20,MATCH(H$3,Feiertage!$A$2:$A$20,0),Einstellungen!$B$3)="x",INDEX(Feiertage!$B$2:$B$20,MATCH(H$3,Feiertage!$A$2:$A$20,0)),""),"") | I2: =IFERROR(IF(INDEX(Feiertage!$C$2:$R$20,MATCH(I$3,Feiertage!$A$2:$A$20,0),Einstellungen!$B$3)="x",INDEX(Feiertage!$B$2:$B$20,MATCH(I$3,Feiertage!$A$2:$A$20,0)),""),"") | ... AF2: =IFERROR(IF(INDEX(Feiertage!$C$2:$R$20,MATCH(AF$3,Feiertage!$A$2:$A$20,0),Einstellungen!$B$3)="x",INDEX(Feiertage!$B$2:$B$20,MATCH(AF$3,Feiertage!$A$2:$A$20,0)),""),"")
A3: Datum | B3: =DATE(2027,8,1) -> 46600 | C3: =DATE(2027,8,2) -> 46601 | D3: =DATE(2027,8,3) -> 46602 | E3: =DATE(2027,8,4) -> 46603 | F3: =DATE(2027,8,5) -> 46604 | G3: =DATE(2027,8,6) -> 46605 | H3: =DATE(2027,8,7) -> 46606 | I3: =DATE(2027,8,8) -> 46607 | J3: =DATE(2027,8,9) -> 46608 | K3: =DATE(2027,8,10) -> 46609 | L3: =DATE(2027,8,11) -> 46610 | M3: =DATE(2027,8,12) -> 46611 | N3: =DATE(2027,8,13) -> 46612 | O3: =DATE(2027,8,14) -> 46613 | P3: =DATE(2027,8,15) -> 46614 | Q3: =DATE(2027,8,16) -> 46615 | R3: =DATE(2027,8,17) -> 46616 | S3: =DATE(2027,8,18) -> 46617 | T3: =DATE(2027,8,19) -> 46618 | U3: =DATE(2027,8,20) -> 46619 | V3: =DATE(2027,8,21) -> 46620 | W3: =DATE(2027,8,22) -> 46621 | X3: =DATE(2027,8,23) -> 46622 | Y3: =DATE(2027,8,24) -> 46623 | Z3: =DATE(2027,8,25) -> 46624 | AA3: =DATE(2027,8,26) -> 46625 | AB3: =DATE(2027,8,27) -> 46626 | AC3: =DATE(2027,8,28) -> 46627 | AD3: =DATE(2027,8,29) -> 46628 | AE3: =DATE(2027,8,30) -> 46629 | AF3: =DATE(2027,8,31) -> 46630
A4: Name | B4: So | C4: Mo | D4: Di | E4: Mi | F4: Do | G4: Fr | H4: Sa | I4: So | J4: Mo | K4: Di | L4: Mi | M4: Do | N4: Fr | O4: Sa | P4: So | Q4: Mo | R4: Di | S4: Mi | T4: Do | U4: Fr | V4: Sa | W4: So | X4: Mo | Y4: Di | Z4: Mi | AA4: Do | AB4: Fr | AC4: Sa | AD4: So | AE4: Mo | AF4: Di | AG4: Tage
A5: =IF('Übersicht'!A5="","",'Übersicht'!A5) | AG5: =SUMPRODUCT((B5:AF5="U")*(B$2:AF$2="")*(B$4:AF$4<>"Sa")*(B$4:AF$4<>"So"))+0.5*SUMPRODUCT((B5:AF5="H")*(B$2:AF$2="")*(B$4:AF$4<>"Sa")*(B$4:AF$4<>"So")) -> 0
A6: =IF('Übersicht'!A6="","",'Übersicht'!A6) | AG6: =SUMPRODUCT((B6:AF6="U")*(B$2:AF$2="")*(B$4:AF$4<>"Sa")*(B$4:AF$4<>"So"))+0.5*SUMPRODUCT((B6:AF6="H")*(B$2:AF$2="")*(B$4:AF$4<>"Sa")*(B$4:AF$4<>"So")) -> 0
A7: =IF('Übersicht'!A7="","",'Übersicht'!A7) | AG7: =SUMPRODUCT((B7:AF7="U")*(B$2:AF$2="")*(B$4:AF$4<>"Sa")*(B$4:AF$4<>"So"))+0.5*SUMPRODUCT((B7:AF7="H")*(B$2:AF$2="")*(B$4:AF$4<>"Sa")*(B$4:AF$4<>"So")) -> 0
A8: =IF('Übersicht'!A8="","",'Übersicht'!A8) | AG8: =SUMPRODUCT((B8:AF8="U")*(B$2:AF$2="")*(B$4:AF$4<>"Sa")*(B$4:AF$4<>"So"))+0.5*SUMPRODUCT((B8:AF8="H")*(B$2:AF$2="")*(B$4:AF$4<>"Sa")*(B$4:AF$4<>"So")) -> 0
A9: =IF('Übersicht'!A9="","",'Übersicht'!A9) | AG9: =SUMPRODUCT((B9:AF9="U")*(B$2:AF$2="")*(B$4:AF$4<>"Sa")*(B$4:AF$4<>"So"))+0.5*SUMPRODUCT((B9:AF9="H")*(B$2:AF$2="")*(B$4:AF$4<>"Sa")*(B$4:AF$4<>"So")) -> 0
A10: =IF('Übersicht'!A10="","",'Übersicht'!A10) | AG10: =SUMPRODUCT((B10:AF10="U")*(B$2:AF$2="")*(B$4:AF$4<>"Sa")*(B$4:AF$4<>"So"))+0.5*SUMPRODUCT((B10:AF10="H")*(B$2:AF$2="")*(B$4:AF$4<>"Sa")*(B$4:AF$4<>"So")) -> 0
A11: =IF('Übersicht'!A11="","",'Übersicht'!A11) | AG11: =SUMPRODUCT((B11:AF11="U")*(B$2:AF$2="")*(B$4:AF$4<>"Sa")*(B$4:AF$4<>"So"))+0.5*SUMPRODUCT((B11:AF11="H")*(B$2:AF$2="")*(B$4:AF$4<>"Sa")*(B$4:AF$4<>"So")) -> 0
A12: =IF('Übersicht'!A12="","",'Übersicht'!A12) | AG12: =SUMPRODUCT((B12:AF12="U")*(B$2:AF$2="")*(B$4:AF$4<>"Sa")*(B$4:AF$4<>"So"))+0.5*SUMPRODUCT((B12:AF12="H")*(B$2:AF$2="")*(B$4:AF$4<>"Sa")*(B$4:AF$4<>"So")) -> 0
A13: =IF('Übersicht'!A13="","",'Übersicht'!A13) | AG13: =SUMPRODUCT((B13:AF13="U")*(B$2:AF$2="")*(B$4:AF$4<>"Sa")*(B$4:AF$4<>"So"))+0.5*SUMPRODUCT((B13:AF13="H")*(B$2:AF$2="")*(B$4:AF$4<>"Sa")*(B$4:AF$4<>"So")) -> 0
A14: =IF('Übersicht'!A14="","",'Übersicht'!A14) | AG14: =SUMPRODUCT((B14:AF14="U")*(B$2:AF$2="")*(B$4:AF$4<>"Sa")*(B$4:AF$4<>"So"))+0.5*SUMPRODUCT((B14:AF14="H")*(B$2:AF$2="")*(B$4:AF$4<>"Sa")*(B$4:AF$4<>"So")) -> 0
A15: =IF('Übersicht'!A15="","",'Übersicht'!A15) | AG15: =SUMPRODUCT((B15:AF15="U")*(B$2:AF$2="")*(B$4:AF$4<>"Sa")*(B$4:AF$4<>"So"))+0.5*SUMPRODUCT((B15:AF15="H")*(B$2:AF$2="")*(B$4:AF$4<>"Sa")*(B$4:AF$4<>"So")) -> 0
A16: =IF('Übersicht'!A16="","",'Übersicht'!A16) | AG16: =SUMPRODUCT((B16:AF16="U")*(B$2:AF$2="")*(B$4:AF$4<>"Sa")*(B$4:AF$4<>"So"))+0.5*SUMPRODUCT((B16:AF16="H")*(B$2:AF$2="")*(B$4:AF$4<>"Sa")*(B$4:AF$4<>"So")) -> 0
... A34: =IF('Übersicht'!A34="","",'Übersicht'!A34) | AG34: =SUMPRODUCT((B34:AF34="U")*(B$2:AF$2="")*(B$4:AF$4<>"Sa")*(B$4:AF$4<>"So"))+0.5*SUMPRODUCT((B34:AF34="H")*(B$2:AF$2="")*(B$4:AF$4<>"Sa")*(B$4:AF$4<>"So")) -> 0

Sheet September
A1: September 2027
A2: Feiertag | B2: =IFERROR(IF(INDEX(Feiertage!$C$2:$R$20,MATCH(B$3,Feiertage!$A$2:$A$20,0),Einstellungen!$B$3)="x",INDEX(Feiertage!$B$2:$B$20,MATCH(B$3,Feiertage!$A$2:$A$20,0)),""),"") | C2: =IFERROR(IF(INDEX(Feiertage!$C$2:$R$20,MATCH(C$3,Feiertage!$A$2:$A$20,0),Einstellungen!$B$3)="x",INDEX(Feiertage!$B$2:$B$20,MATCH(C$3,Feiertage!$A$2:$A$20,0)),""),"") | D2: =IFERROR(IF(INDEX(Feiertage!$C$2:$R$20,MATCH(D$3,Feiertage!$A$2:$A$20,0),Einstellungen!$B$3)="x",INDEX(Feiertage!$B$2:$B$20,MATCH(D$3,Feiertage!$A$2:$A$20,0)),""),"") | E2: =IFERROR(IF(INDEX(Feiertage!$C$2:$R$20,MATCH(E$3,Feiertage!$A$2:$A$20,0),Einstellungen!$B$3)="x",INDEX(Feiertage!$B$2:$B$20,MATCH(E$3,Feiertage!$A$2:$A$20,0)),""),"") | F2: =IFERROR(IF(INDEX(Feiertage!$C$2:$R$20,MATCH(F$3,Feiertage!$A$2:$A$20,0),Einstellungen!$B$3)="x",INDEX(Feiertage!$B$2:$B$20,MATCH(F$3,Feiertage!$A$2:$A$20,0)),""),"") | G2: =IFERROR(IF(INDEX(Feiertage!$C$2:$R$20,MATCH(G$3,Feiertage!$A$2:$A$20,0),Einstellungen!$B$3)="x",INDEX(Feiertage!$B$2:$B$20,MATCH(G$3,Feiertage!$A$2:$A$20,0)),""),"") | H2: =IFERROR(IF(INDEX(Feiertage!$C$2:$R$20,MATCH(H$3,Feiertage!$A$2:$A$20,0),Einstellungen!$B$3)="x",INDEX(Feiertage!$B$2:$B$20,MATCH(H$3,Feiertage!$A$2:$A$20,0)),""),"") | I2: =IFERROR(IF(INDEX(Feiertage!$C$2:$R$20,MATCH(I$3,Feiertage!$A$2:$A$20,0),Einstellungen!$B$3)="x",INDEX(Feiertage!$B$2:$B$20,MATCH(I$3,Feiertage!$A$2:$A$20,0)),""),"") | ... AE2: =IFERROR(IF(INDEX(Feiertage!$C$2:$R$20,MATCH(AE$3,Feiertage!$A$2:$A$20,0),Einstellungen!$B$3)="x",INDEX(Feiertage!$B$2:$B$20,MATCH(AE$3,Feiertage!$A$2:$A$20,0)),""),"")
A3: Datum | B3: =DATE(2027,9,1) -> 46631 | C3: =DATE(2027,9,2) -> 46632 | D3: =DATE(2027,9,3) -> 46633 | E3: =DATE(2027,9,4) -> 46634 | F3: =DATE(2027,9,5) -> 46635 | G3: =DATE(2027,9,6) -> 46636 | H3: =DATE(2027,9,7) -> 46637 | I3: =DATE(2027,9,8) -> 46638 | J3: =DATE(2027,9,9) -> 46639 | K3: =DATE(2027,9,10) -> 46640 | L3: =DATE(2027,9,11) -> 46641 | M3: =DATE(2027,9,12) -> 46642 | N3: =DATE(2027,9,13) -> 46643 | O3: =DATE(2027,9,14) -> 46644 | P3: =DATE(2027,9,15) -> 46645 | Q3: =DATE(2027,9,16) -> 46646 | R3: =DATE(2027,9,17) -> 46647 | S3: =DATE(2027,9,18) -> 46648 | T3: =DATE(2027,9,19) -> 46649 | U3: =DATE(2027,9,20) -> 46650 | V3: =DATE(2027,9,21) -> 46651 | W3: =DATE(2027,9,22) -> 46652 | X3: =DATE(2027,9,23) -> 46653 | Y3: =DATE(2027,9,24) -> 46654 | Z3: =DATE(2027,9,25) -> 46655 | AA3: =DATE(2027,9,26) -> 46656 | AB3: =DATE(2027,9,27) -> 46657 | AC3: =DATE(2027,9,28) -> 46658 | AD3: =DATE(2027,9,29) -> 46659 | AE3: =DATE(2027,9,30) -> 46660
A4: Name | B4: Mi | C4: Do | D4: Fr | E4: Sa | F4: So | G4: Mo | H4: Di | I4: Mi | J4: Do | K4: Fr | L4: Sa | M4: So | N4: Mo | O4: Di | P4: Mi | Q4: Do | R4: Fr | S4: Sa | T4: So | U4: Mo | V4: Di | W4: Mi | X4: Do | Y4: Fr | Z4: Sa | AA4: So | AB4: Mo | AC4: Di | AD4: Mi | AE4: Do | AG4: Tage
A5: =IF('Übersicht'!A5="","",'Übersicht'!A5) | AG5: =SUMPRODUCT((B5:AF5="U")*(B$2:AF$2="")*(B$4:AF$4<>"Sa")*(B$4:AF$4<>"So"))+0.5*SUMPRODUCT((B5:AF5="H")*(B$2:AF$2="")*(B$4:AF$4<>"Sa")*(B$4:AF$4<>"So")) -> 0
A6: =IF('Übersicht'!A6="","",'Übersicht'!A6) | AG6: =SUMPRODUCT((B6:AF6="U")*(B$2:AF$2="")*(B$4:AF$4<>"Sa")*(B$4:AF$4<>"So"))+0.5*SUMPRODUCT((B6:AF6="H")*(B$2:AF$2="")*(B$4:AF$4<>"Sa")*(B$4:AF$4<>"So")) -> 0
A7: =IF('Übersicht'!A7="","",'Übersicht'!A7) | AG7: =SUMPRODUCT((B7:AF7="U")*(B$2:AF$2="")*(B$4:AF$4<>"Sa")*(B$4:AF$4<>"So"))+0.5*SUMPRODUCT((B7:AF7="H")*(B$2:AF$2="")*(B$4:AF$4<>"Sa")*(B$4:AF$4<>"So")) -> 0
A8: =IF('Übersicht'!A8="","",'Übersicht'!A8) | AG8: =SUMPRODUCT((B8:AF8="U")*(B$2:AF$2="")*(B$4:AF$4<>"Sa")*(B$4:AF$4<>"So"))+0.5*SUMPRODUCT((B8:AF8="H")*(B$2:AF$2="")*(B$4:AF$4<>"Sa")*(B$4:AF$4<>"So")) -> 0
A9: =IF('Übersicht'!A9="","",'Übersicht'!A9) | AG9: =SUMPRODUCT((B9:AF9="U")*(B$2:AF$2="")*(B$4:AF$4<>"Sa")*(B$4:AF$4<>"So"))+0.5*SUMPRODUCT((B9:AF9="H")*(B$2:AF$2="")*(B$4:AF$4<>"Sa")*(B$4:AF$4<>"So")) -> 0
A10: =IF('Übersicht'!A10="","",'Übersicht'!A10) | AG10: =SUMPRODUCT((B10:AF10="U")*(B$2:AF$2="")*(B$4:AF$4<>"Sa")*(B$4:AF$4<>"So"))+0.5*SUMPRODUCT((B10:AF10="H")*(B$2:AF$2="")*(B$4:AF$4<>"Sa")*(B$4:AF$4<>"So")) -> 0
A11: =IF('Übersicht'!A11="","",'Übersicht'!A11) | AG11: =SUMPRODUCT((B11:AF11="U")*(B$2:AF$2="")*(B$4:AF$4<>"Sa")*(B$4:AF$4<>"So"))+0.5*SUMPRODUCT((B11:AF11="H")*(B$2:AF$2="")*(B$4:AF$4<>"Sa")*(B$4:AF$4<>"So")) -> 0
A12: =IF('Übersicht'!A12="","",'Übersicht'!A12) | AG12: =SUMPRODUCT((B12:AF12="U")*(B$2:AF$2="")*(B$4:AF$4<>"Sa")*(B$4:AF$4<>"So"))+0.5*SUMPRODUCT((B12:AF12="H")*(B$2:AF$2="")*(B$4:AF$4<>"Sa")*(B$4:AF$4<>"So")) -> 0
A13: =IF('Übersicht'!A13="","",'Übersicht'!A13) | AG13: =SUMPRODUCT((B13:AF13="U")*(B$2:AF$2="")*(B$4:AF$4<>"Sa")*(B$4:AF$4<>"So"))+0.5*SUMPRODUCT((B13:AF13="H")*(B$2:AF$2="")*(B$4:AF$4<>"Sa")*(B$4:AF$4<>"So")) -> 0
A14: =IF('Übersicht'!A14="","",'Übersicht'!A14) | AG14: =SUMPRODUCT((B14:AF14="U")*(B$2:AF$2="")*(B$4:AF$4<>"Sa")*(B$4:AF$4<>"So"))+0.5*SUMPRODUCT((B14:AF14="H")*(B$2:AF$2="")*(B$4:AF$4<>"Sa")*(B$4:AF$4<>"So")) -> 0
A15: =IF('Übersicht'!A15="","",'Übersicht'!A15) | AG15: =SUMPRODUCT((B15:AF15="U")*(B$2:AF$2="")*(B$4:AF$4<>"Sa")*(B$4:AF$4<>"So"))+0.5*SUMPRODUCT((B15:AF15="H")*(B$2:AF$2="")*(B$4:AF$4<>"Sa")*(B$4:AF$4<>"So")) -> 0
A16: =IF('Übersicht'!A16="","",'Übersicht'!A16) | AG16: =SUMPRODUCT((B16:AF16="U")*(B$2:AF$2="")*(B$4:AF$4<>"Sa")*(B$4:AF$4<>"So"))+0.5*SUMPRODUCT((B16:AF16="H")*(B$2:AF$2="")*(B$4:AF$4<>"Sa")*(B$4:AF$4<>"So")) -> 0
... A34: =IF('Übersicht'!A34="","",'Übersicht'!A34) | AG34: =SUMPRODUCT((B34:AF34="U")*(B$2:AF$2="")*(B$4:AF$4<>"Sa")*(B$4:AF$4<>"So"))+0.5*SUMPRODUCT((B34:AF34="H")*(B$2:AF$2="")*(B$4:AF$4<>"Sa")*(B$4:AF$4<>"So")) -> 0

Sheet Oktober
A1: Oktober 2027
A2: Feiertag | B2: =IFERROR(IF(INDEX(Feiertage!$C$2:$R$20,MATCH(B$3,Feiertage!$A$2:$A$20,0),Einstellungen!$B$3)="x",INDEX(Feiertage!$B$2:$B$20,MATCH(B$3,Feiertage!$A$2:$A$20,0)),""),"") | C2: =IFERROR(IF(INDEX(Feiertage!$C$2:$R$20,MATCH(C$3,Feiertage!$A$2:$A$20,0),Einstellungen!$B$3)="x",INDEX(Feiertage!$B$2:$B$20,MATCH(C$3,Feiertage!$A$2:$A$20,0)),""),"") | D2: =IFERROR(IF(INDEX(Feiertage!$C$2:$R$20,MATCH(D$3,Feiertage!$A$2:$A$20,0),Einstellungen!$B$3)="x",INDEX(Feiertage!$B$2:$B$20,MATCH(D$3,Feiertage!$A$2:$A$20,0)),""),"") -> Tag der Deutschen Einheit | E2: =IFERROR(IF(INDEX(Feiertage!$C$2:$R$20,MATCH(E$3,Feiertage!$A$2:$A$20,0),Einstellungen!$B$3)="x",INDEX(Feiertage!$B$2:$B$20,MATCH(E$3,Feiertage!$A$2:$A$20,0)),""),"") | F2: =IFERROR(IF(INDEX(Feiertage!$C$2:$R$20,MATCH(F$3,Feiertage!$A$2:$A$20,0),Einstellungen!$B$3)="x",INDEX(Feiertage!$B$2:$B$20,MATCH(F$3,Feiertage!$A$2:$A$20,0)),""),"") | G2: =IFERROR(IF(INDEX(Feiertage!$C$2:$R$20,MATCH(G$3,Feiertage!$A$2:$A$20,0),Einstellungen!$B$3)="x",INDEX(Feiertage!$B$2:$B$20,MATCH(G$3,Feiertage!$A$2:$A$20,0)),""),"") | H2: =IFERROR(IF(INDEX(Feiertage!$C$2:$R$20,MATCH(H$3,Feiertage!$A$2:$A$20,0),Einstellungen!$B$3)="x",INDEX(Feiertage!$B$2:$B$20,MATCH(H$3,Feiertage!$A$2:$A$20,0)),""),"") | I2: =IFERROR(IF(INDEX(Feiertage!$C$2:$R$20,MATCH(I$3,Feiertage!$A$2:$A$20,0),Einstellungen!$B$3)="x",INDEX(Feiertage!$B$2:$B$20,MATCH(I$3,Feiertage!$A$2:$A$20,0)),""),"") | ... AF2: =IFERROR(IF(INDEX(Feiertage!$C$2:$R$20,MATCH(AF$3,Feiertage!$A$2:$A$20,0),Einstellungen!$B$3)="x",INDEX(Feiertage!$B$2:$B$20,MATCH(AF$3,Feiertage!$A$2:$A$20,0)),""),"")
A3: Datum | B3: =DATE(2027,10,1) -> 46661 | C3: =DATE(2027,10,2) -> 46662 | D3: =DATE(2027,10,3) -> 46663 | E3: =DATE(2027,10,4) -> 46664 | F3: =DATE(2027,10,5) -> 46665 | G3: =DATE(2027,10,6) -> 46666 | H3: =DATE(2027,10,7) -> 46667 | I3: =DATE(2027,10,8) -> 46668 | J3: =DATE(2027,10,9) -> 46669 | K3: =DATE(2027,10,10) -> 46670 | L3: =DATE(2027,10,11) -> 46671 | M3: =DATE(2027,10,12) -> 46672 | N3: =DATE(2027,10,13) -> 46673 | O3: =DATE(2027,10,14) -> 46674 | P3: =DATE(2027,10,15) -> 46675 | Q3: =DATE(2027,10,16) -> 46676 | R3: =DATE(2027,10,17) -> 46677 | S3: =DATE(2027,10,18) -> 46678 | T3: =DATE(2027,10,19) -> 46679 | U3: =DATE(2027,10,20) -> 46680 | V3: =DATE(2027,10,21) -> 46681 | W3: =DATE(2027,10,22) -> 46682 | X3: =DATE(2027,10,23) -> 46683 | Y3: =DATE(2027,10,24) -> 46684 | Z3: =DATE(2027,10,25) -> 46685 | AA3: =DATE(2027,10,26) -> 46686 | AB3: =DATE(2027,10,27) -> 46687 | AC3: =DATE(2027,10,28) -> 46688 | AD3: =DATE(2027,10,29) -> 46689 | AE3: =DATE(2027,10,30) -> 46690 | AF3: =DATE(2027,10,31) -> 46691
A4: Name | B4: Fr | C4: Sa | D4: So | E4: Mo | F4: Di | G4: Mi | H4: Do | I4: Fr | J4: Sa | K4: So | L4: Mo | M4: Di | N4: Mi | O4: Do | P4: Fr | Q4: Sa | R4: So | S4: Mo | T4: Di | U4: Mi | V4: Do | W4: Fr | X4: Sa | Y4: So | Z4: Mo | AA4: Di | AB4: Mi | AC4: Do | AD4: Fr | AE4: Sa | AF4: So | AG4: Tage
A5: =IF('Übersicht'!A5="","",'Übersicht'!A5) | AG5: =SUMPRODUCT((B5:AF5="U")*(B$2:AF$2="")*(B$4:AF$4<>"Sa")*(B$4:AF$4<>"So"))+0.5*SUMPRODUCT((B5:AF5="H")*(B$2:AF$2="")*(B$4:AF$4<>"Sa")*(B$4:AF$4<>"So")) -> 0
A6: =IF('Übersicht'!A6="","",'Übersicht'!A6) | AG6: =SUMPRODUCT((B6:AF6="U")*(B$2:AF$2="")*(B$4:AF$4<>"Sa")*(B$4:AF$4<>"So"))+0.5*SUMPRODUCT((B6:AF6="H")*(B$2:AF$2="")*(B$4:AF$4<>"Sa")*(B$4:AF$4<>"So")) -> 0
A7: =IF('Übersicht'!A7="","",'Übersicht'!A7) | AG7: =SUMPRODUCT((B7:AF7="U")*(B$2:AF$2="")*(B$4:AF$4<>"Sa")*(B$4:AF$4<>"So"))+0.5*SUMPRODUCT((B7:AF7="H")*(B$2:AF$2="")*(B$4:AF$4<>"Sa")*(B$4:AF$4<>"So")) -> 0
A8: =IF('Übersicht'!A8="","",'Übersicht'!A8) | AG8: =SUMPRODUCT((B8:AF8="U")*(B$2:AF$2="")*(B$4:AF$4<>"Sa")*(B$4:AF$4<>"So"))+0.5*SUMPRODUCT((B8:AF8="H")*(B$2:AF$2="")*(B$4:AF$4<>"Sa")*(B$4:AF$4<>"So")) -> 0
A9: =IF('Übersicht'!A9="","",'Übersicht'!A9) | AG9: =SUMPRODUCT((B9:AF9="U")*(B$2:AF$2="")*(B$4:AF$4<>"Sa")*(B$4:AF$4<>"So"))+0.5*SUMPRODUCT((B9:AF9="H")*(B$2:AF$2="")*(B$4:AF$4<>"Sa")*(B$4:AF$4<>"So")) -> 0
A10: =IF('Übersicht'!A10="","",'Übersicht'!A10) | AG10: =SUMPRODUCT((B10:AF10="U")*(B$2:AF$2="")*(B$4:AF$4<>"Sa")*(B$4:AF$4<>"So"))+0.5*SUMPRODUCT((B10:AF10="H")*(B$2:AF$2="")*(B$4:AF$4<>"Sa")*(B$4:AF$4<>"So")) -> 0
A11: =IF('Übersicht'!A11="","",'Übersicht'!A11) | AG11: =SUMPRODUCT((B11:AF11="U")*(B$2:AF$2="")*(B$4:AF$4<>"Sa")*(B$4:AF$4<>"So"))+0.5*SUMPRODUCT((B11:AF11="H")*(B$2:AF$2="")*(B$4:AF$4<>"Sa")*(B$4:AF$4<>"So")) -> 0
A12: =IF('Übersicht'!A12="","",'Übersicht'!A12) | AG12: =SUMPRODUCT((B12:AF12="U")*(B$2:AF$2="")*(B$4:AF$4<>"Sa")*(B$4:AF$4<>"So"))+0.5*SUMPRODUCT((B12:AF12="H")*(B$2:AF$2="")*(B$4:AF$4<>"Sa")*(B$4:AF$4<>"So")) -> 0
A13: =IF('Übersicht'!A13="","",'Übersicht'!A13) | AG13: =SUMPRODUCT((B13:AF13="U")*(B$2:AF$2="")*(B$4:AF$4<>"Sa")*(B$4:AF$4<>"So"))+0.5*SUMPRODUCT((B13:AF13="H")*(B$2:AF$2="")*(B$4:AF$4<>"Sa")*(B$4:AF$4<>"So")) -> 0
A14: =IF('Übersicht'!A14="","",'Übersicht'!A14) | AG14: =SUMPRODUCT((B14:AF14="U")*(B$2:AF$2="")*(B$4:AF$4<>"Sa")*(B$4:AF$4<>"So"))+0.5*SUMPRODUCT((B14:AF14="H")*(B$2:AF$2="")*(B$4:AF$4<>"Sa")*(B$4:AF$4<>"So")) -> 0
A15: =IF('Übersicht'!A15="","",'Übersicht'!A15) | AG15: =SUMPRODUCT((B15:AF15="U")*(B$2:AF$2="")*(B$4:AF$4<>"Sa")*(B$4:AF$4<>"So"))+0.5*SUMPRODUCT((B15:AF15="H")*(B$2:AF$2="")*(B$4:AF$4<>"Sa")*(B$4:AF$4<>"So")) -> 0
A16: =IF('Übersicht'!A16="","",'Übersicht'!A16) | AG16: =SUMPRODUCT((B16:AF16="U")*(B$2:AF$2="")*(B$4:AF$4<>"Sa")*(B$4:AF$4<>"So"))+0.5*SUMPRODUCT((B16:AF16="H")*(B$2:AF$2="")*(B$4:AF$4<>"Sa")*(B$4:AF$4<>"So")) -> 0
... A34: =IF('Übersicht'!A34="","",'Übersicht'!A34) | AG34: =SUMPRODUCT((B34:AF34="U")*(B$2:AF$2="")*(B$4:AF$4<>"Sa")*(B$4:AF$4<>"So"))+0.5*SUMPRODUCT((B34:AF34="H")*(B$2:AF$2="")*(B$4:AF$4<>"Sa")*(B$4:AF$4<>"So")) -> 0

Sheet November
A1: November 2027
A2: Feiertag | B2: =IFERROR(IF(INDEX(Feiertage!$C$2:$R$20,MATCH(B$3,Feiertage!$A$2:$A$20,0),Einstellungen!$B$3)="x",INDEX(Feiertage!$B$2:$B$20,MATCH(B$3,Feiertage!$A$2:$A$20,0)),""),"") -> Allerheiligen | C2: =IFERROR(IF(INDEX(Feiertage!$C$2:$R$20,MATCH(C$3,Feiertage!$A$2:$A$20,0),Einstellungen!$B$3)="x",INDEX(Feiertage!$B$2:$B$20,MATCH(C$3,Feiertage!$A$2:$A$20,0)),""),"") | D2: =IFERROR(IF(INDEX(Feiertage!$C$2:$R$20,MATCH(D$3,Feiertage!$A$2:$A$20,0),Einstellungen!$B$3)="x",INDEX(Feiertage!$B$2:$B$20,MATCH(D$3,Feiertage!$A$2:$A$20,0)),""),"") | E2: =IFERROR(IF(INDEX(Feiertage!$C$2:$R$20,MATCH(E$3,Feiertage!$A$2:$A$20,0),Einstellungen!$B$3)="x",INDEX(Feiertage!$B$2:$B$20,MATCH(E$3,Feiertage!$A$2:$A$20,0)),""),"") | F2: =IFERROR(IF(INDEX(Feiertage!$C$2:$R$20,MATCH(F$3,Feiertage!$A$2:$A$20,0),Einstellungen!$B$3)="x",INDEX(Feiertage!$B$2:$B$20,MATCH(F$3,Feiertage!$A$2:$A$20,0)),""),"") | G2: =IFERROR(IF(INDEX(Feiertage!$C$2:$R$20,MATCH(G$3,Feiertage!$A$2:$A$20,0),Einstellungen!$B$3)="x",INDEX(Feiertage!$B$2:$B$20,MATCH(G$3,Feiertage!$A$2:$A$20,0)),""),"") | H2: =IFERROR(IF(INDEX(Feiertage!$C$2:$R$20,MATCH(H$3,Feiertage!$A$2:$A$20,0),Einstellungen!$B$3)="x",INDEX(Feiertage!$B$2:$B$20,MATCH(H$3,Feiertage!$A$2:$A$20,0)),""),"") | I2: =IFERROR(IF(INDEX(Feiertage!$C$2:$R$20,MATCH(I$3,Feiertage!$A$2:$A$20,0),Einstellungen!$B$3)="x",INDEX(Feiertage!$B$2:$B$20,MATCH(I$3,Feiertage!$A$2:$A$20,0)),""),"") | ... AE2: =IFERROR(IF(INDEX(Feiertage!$C$2:$R$20,MATCH(AE$3,Feiertage!$A$2:$A$20,0),Einstellungen!$B$3)="x",INDEX(Feiertage!$B$2:$B$20,MATCH(AE$3,Feiertage!$A$2:$A$20,0)),""),"")
A3: Datum | B3: =DATE(2027,11,1) -> 46692 | C3: =DATE(2027,11,2) -> 46693 | D3: =DATE(2027,11,3) -> 46694 | E3: =DATE(2027,11,4) -> 46695 | F3: =DATE(2027,11,5) -> 46696 | G3: =DATE(2027,11,6) -> 46697 | H3: =DATE(2027,11,7) -> 46698 | I3: =DATE(2027,11,8) -> 46699 | J3: =DATE(2027,11,9) -> 46700 | K3: =DATE(2027,11,10) -> 46701 | L3: =DATE(2027,11,11) -> 46702 | M3: =DATE(2027,11,12) -> 46703 | N3: =DATE(2027,11,13) -> 46704 | O3: =DATE(2027,11,14) -> 46705 | P3: =DATE(2027,11,15) -> 46706 | Q3: =DATE(2027,11,16) -> 46707 | R3: =DATE(2027,11,17) -> 46708 | S3: =DATE(2027,11,18) -> 46709 | T3: =DATE(2027,11,19) -> 46710 | U3: =DATE(2027,11,20) -> 46711 | V3: =DATE(2027,11,21) -> 46712 | W3: =DATE(2027,11,22) -> 46713 | X3: =DATE(2027,11,23) -> 46714 | Y3: =DATE(2027,11,24) -> 46715 | Z3: =DATE(2027,11,25) -> 46716 | AA3: =DATE(2027,11,26) -> 46717 | AB3: =DATE(2027,11,27) -> 46718 | AC3: =DATE(2027,11,28) -> 46719 | AD3: =DATE(2027,11,29) -> 46720 | AE3: =DATE(2027,11,30) -> 46721
A4: Name | B4: Mo | C4: Di | D4: Mi | E4: Do | F4: Fr | G4: Sa | H4: So | I4: Mo | J4: Di | K4: Mi | L4: Do | M4: Fr | N4: Sa | O4: So | P4: Mo | Q4: Di | R4: Mi | S4: Do | T4: Fr | U4: Sa | V4: So | W4: Mo | X4: Di | Y4: Mi | Z4: Do | AA4: Fr | AB4: Sa | AC4: So | AD4: Mo | AE4: Di | AG4: Tage
A5: =IF('Übersicht'!A5="","",'Übersicht'!A5) | AG5: =SUMPRODUCT((B5:AF5="U")*(B$2:AF$2="")*(B$4:AF$4<>"Sa")*(B$4:AF$4<>"So"))+0.5*SUMPRODUCT((B5:AF5="H")*(B$2:AF$2="")*(B$4:AF$4<>"Sa")*(B$4:AF$4<>"So")) -> 0
A6: =IF('Übersicht'!A6="","",'Übersicht'!A6) | AG6: =SUMPRODUCT((B6:AF6="U")*(B$2:AF$2="")*(B$4:AF$4<>"Sa")*(B$4:AF$4<>"So"))+0.5*SUMPRODUCT((B6:AF6="H")*(B$2:AF$2="")*(B$4:AF$4<>"Sa")*(B$4:AF$4<>"So")) -> 0
A7: =IF('Übersicht'!A7="","",'Übersicht'!A7) | AG7: =SUMPRODUCT((B7:AF7="U")*(B$2:AF$2="")*(B$4:AF$4<>"Sa")*(B$4:AF$4<>"So"))+0.5*SUMPRODUCT((B7:AF7="H")*(B$2:AF$2="")*(B$4:AF$4<>"Sa")*(B$4:AF$4<>"So")) -> 0
A8: =IF('Übersicht'!A8="","",'Übersicht'!A8) | AG8: =SUMPRODUCT((B8:AF8="U")*(B$2:AF$2="")*(B$4:AF$4<>"Sa")*(B$4:AF$4<>"So"))+0.5*SUMPRODUCT((B8:AF8="H")*(B$2:AF$2="")*(B$4:AF$4<>"Sa")*(B$4:AF$4<>"So")) -> 0
A9: =IF('Übersicht'!A9="","",'Übersicht'!A9) | AG9: =SUMPRODUCT((B9:AF9="U")*(B$2:AF$2="")*(B$4:AF$4<>"Sa")*(B$4:AF$4<>"So"))+0.5*SUMPRODUCT((B9:AF9="H")*(B$2:AF$2="")*(B$4:AF$4<>"Sa")*(B$4:AF$4<>"So")) -> 0
A10: =IF('Übersicht'!A10="","",'Übersicht'!A10) | AG10: =SUMPRODUCT((B10:AF10="U")*(B$2:AF$2="")*(B$4:AF$4<>"Sa")*(B$4:AF$4<>"So"))+0.5*SUMPRODUCT((B10:AF10="H")*(B$2:AF$2="")*(B$4:AF$4<>"Sa")*(B$4:AF$4<>"So")) -> 0
A11: =IF('Übersicht'!A11="","",'Übersicht'!A11) | AG11: =SUMPRODUCT((B11:AF11="U")*(B$2:AF$2="")*(B$4:AF$4<>"Sa")*(B$4:AF$4<>"So"))+0.5*SUMPRODUCT((B11:AF11="H")*(B$2:AF$2="")*(B$4:AF$4<>"Sa")*(B$4:AF$4<>"So")) -> 0
A12: =IF('Übersicht'!A12="","",'Übersicht'!A12) | AG12: =SUMPRODUCT((B12:AF12="U")*(B$2:AF$2="")*(B$4:AF$4<>"Sa")*(B$4:AF$4<>"So"))+0.5*SUMPRODUCT((B12:AF12="H")*(B$2:AF$2="")*(B$4:AF$4<>"Sa")*(B$4:AF$4<>"So")) -> 0
A13: =IF('Übersicht'!A13="","",'Übersicht'!A13) | AG13: =SUMPRODUCT((B13:AF13="U")*(B$2:AF$2="")*(B$4:AF$4<>"Sa")*(B$4:AF$4<>"So"))+0.5*SUMPRODUCT((B13:AF13="H")*(B$2:AF$2="")*(B$4:AF$4<>"Sa")*(B$4:AF$4<>"So")) -> 0
A14: =IF('Übersicht'!A14="","",'Übersicht'!A14) | AG14: =SUMPRODUCT((B14:AF14="U")*(B$2:AF$2="")*(B$4:AF$4<>"Sa")*(B$4:AF$4<>"So"))+0.5*SUMPRODUCT((B14:AF14="H")*(B$2:AF$2="")*(B$4:AF$4<>"Sa")*(B$4:AF$4<>"So")) -> 0
A15: =IF('Übersicht'!A15="","",'Übersicht'!A15) | AG15: =SUMPRODUCT((B15:AF15="U")*(B$2:AF$2="")*(B$4:AF$4<>"Sa")*(B$4:AF$4<>"So"))+0.5*SUMPRODUCT((B15:AF15="H")*(B$2:AF$2="")*(B$4:AF$4<>"Sa")*(B$4:AF$4<>"So")) -> 0
A16: =IF('Übersicht'!A16="","",'Übersicht'!A16) | AG16: =SUMPRODUCT((B16:AF16="U")*(B$2:AF$2="")*(B$4:AF$4<>"Sa")*(B$4:AF$4<>"So"))+0.5*SUMPRODUCT((B16:AF16="H")*(B$2:AF$2="")*(B$4:AF$4<>"Sa")*(B$4:AF$4<>"So")) -> 0
... A34: =IF('Übersicht'!A34="","",'Übersicht'!A34) | AG34: =SUMPRODUCT((B34:AF34="U")*(B$2:AF$2="")*(B$4:AF$4<>"Sa")*(B$4:AF$4<>"So"))+0.5*SUMPRODUCT((B34:AF34="H")*(B$2:AF$2="")*(B$4:AF$4<>"Sa")*(B$4:AF$4<>"So")) -> 0

Sheet Dezember
A1: Dezember 2027
A2: Feiertag | B2: =IFERROR(IF(INDEX(Feiertage!$C$2:$R$20,MATCH(B$3,Feiertage!$A$2:$A$20,0),Einstellungen!$B$3)="x",INDEX(Feiertage!$B$2:$B$20,MATCH(B$3,Feiertage!$A$2:$A$20,0)),""),"") | C2: =IFERROR(IF(INDEX(Feiertage!$C$2:$R$20,MATCH(C$3,Feiertage!$A$2:$A$20,0),Einstellungen!$B$3)="x",INDEX(Feiertage!$B$2:$B$20,MATCH(C$3,Feiertage!$A$2:$A$20,0)),""),"") | D2: =IFERROR(IF(INDEX(Feiertage!$C$2:$R$20,MATCH(D$3,Feiertage!$A$2:$A$20,0),Einstellungen!$B$3)="x",INDEX(Feiertage!$B$2:$B$20,MATCH(D$3,Feiertage!$A$2:$A$20,0)),""),"") | E2: =IFERROR(IF(INDEX(Feiertage!$C$2:$R$20,MATCH(E$3,Feiertage!$A$2:$A$20,0),Einstellungen!$B$3)="x",INDEX(Feiertage!$B$2:$B$20,MATCH(E$3,Feiertage!$A$2:$A$20,0)),""),"") | F2: =IFERROR(IF(INDEX(Feiertage!$C$2:$R$20,MATCH(F$3,Feiertage!$A$2:$A$20,0),Einstellungen!$B$3)="x",INDEX(Feiertage!$B$2:$B$20,MATCH(F$3,Feiertage!$A$2:$A$20,0)),""),"") | G2: =IFERROR(IF(INDEX(Feiertage!$C$2:$R$20,MATCH(G$3,Feiertage!$A$2:$A$20,0),Einstellungen!$B$3)="x",INDEX(Feiertage!$B$2:$B$20,MATCH(G$3,Feiertage!$A$2:$A$20,0)),""),"") | H2: =IFERROR(IF(INDEX(Feiertage!$C$2:$R$20,MATCH(H$3,Feiertage!$A$2:$A$20,0),Einstellungen!$B$3)="x",INDEX(Feiertage!$B$2:$B$20,MATCH(H$3,Feiertage!$A$2:$A$20,0)),""),"") | I2: =IFERROR(IF(INDEX(Feiertage!$C$2:$R$20,MATCH(I$3,Feiertage!$A$2:$A$20,0),Einstellungen!$B$3)="x",INDEX(Feiertage!$B$2:$B$20,MATCH(I$3,Feiertage!$A$2:$A$20,0)),""),"") | ... AF2: =IFERROR(IF(INDEX(Feiertage!$C$2:$R$20,MATCH(AF$3,Feiertage!$A$2:$A$20,0),Einstellungen!$B$3)="x",INDEX(Feiertage!$B$2:$B$20,MATCH(AF$3,Feiertage!$A$2:$A$20,0)),""),"")
A3: Datum | B3: =DATE(2027,12,1) -> 46722 | C3: =DATE(2027,12,2) -> 46723 | D3: =DATE(2027,12,3) -> 46724 | E3: =DATE(2027,12,4) -> 46725 | F3: =DATE(2027,12,5) -> 46726 | G3: =DATE(2027,12,6) -> 46727 | H3: =DATE(2027,12,7) -> 46728 | I3: =DATE(2027,12,8) -> 46729 | J3: =DATE(2027,12,9) -> 46730 | K3: =DATE(2027,12,10) -> 46731 | L3: =DATE(2027,12,11) -> 46732 | M3: =DATE(2027,12,12) -> 46733 | N3: =DATE(2027,12,13) -> 46734 | O3: =DATE(2027,12,14) -> 46735 | P3: =DATE(2027,12,15) -> 46736 | Q3: =DATE(2027,12,16) -> 46737 | R3: =DATE(2027,12,17) -> 46738 | S3: =DATE(2027,12,18) -> 46739 | T3: =DATE(2027,12,19) -> 46740 | U3: =DATE(2027,12,20) -> 46741 | V3: =DATE(2027,12,21) -> 46742 | W3: =DATE(2027,12,22) -> 46743 | X3: =DATE(2027,12,23) -> 46744 | Y3: =DATE(2027,12,24) -> 46745 | Z3: =DATE(2027,12,25) -> 46746 | AA3: =DATE(2027,12,26) -> 46747 | AB3: =DATE(2027,12,27) -> 46748 | AC3: =DATE(2027,12,28) -> 46749 | AD3: =DATE(2027,12,29) -> 46750 | AE3: =DATE(2027,12,30) -> 46751 | AF3: =DATE(2027,12,31) -> 46752
A4: Name | B4: Mi | C4: Do | D4: Fr | E4: Sa | F4: So | G4: Mo | H4: Di | I4: Mi | J4: Do | K4: Fr | L4: Sa | M4: So | N4: Mo | O4: Di | P4: Mi | Q4: Do | R4: Fr | S4: Sa | T4: So | U4: Mo | V4: Di | W4: Mi | X4: Do | Y4: Fr | Z4: Sa | AA4: So | AB4: Mo | AC4: Di | AD4: Mi | AE4: Do | AF4: Fr | AG4: Tage
A5: =IF('Übersicht'!A5="","",'Übersicht'!A5) | AG5: =SUMPRODUCT((B5:AF5="U")*(B$2:AF$2="")*(B$4:AF$4<>"Sa")*(B$4:AF$4<>"So"))+0.5*SUMPRODUCT((B5:AF5="H")*(B$2:AF$2="")*(B$4:AF$4<>"Sa")*(B$4:AF$4<>"So")) -> 0
A6: =IF('Übersicht'!A6="","",'Übersicht'!A6) | AG6: =SUMPRODUCT((B6:AF6="U")*(B$2:AF$2="")*(B$4:AF$4<>"Sa")*(B$4:AF$4<>"So"))+0.5*SUMPRODUCT((B6:AF6="H")*(B$2:AF$2="")*(B$4:AF$4<>"Sa")*(B$4:AF$4<>"So")) -> 0
A7: =IF('Übersicht'!A7="","",'Übersicht'!A7) | AG7: =SUMPRODUCT((B7:AF7="U")*(B$2:AF$2="")*(B$4:AF$4<>"Sa")*(B$4:AF$4<>"So"))+0.5*SUMPRODUCT((B7:AF7="H")*(B$2:AF$2="")*(B$4:AF$4<>"Sa")*(B$4:AF$4<>"So")) -> 0
A8: =IF('Übersicht'!A8="","",'Übersicht'!A8) | AG8: =SUMPRODUCT((B8:AF8="U")*(B$2:AF$2="")*(B$4:AF$4<>"Sa")*(B$4:AF$4<>"So"))+0.5*SUMPRODUCT((B8:AF8="H")*(B$2:AF$2="")*(B$4:AF$4<>"Sa")*(B$4:AF$4<>"So")) -> 0
A9: =IF('Übersicht'!A9="","",'Übersicht'!A9) | AG9: =SUMPRODUCT((B9:AF9="U")*(B$2:AF$2="")*(B$4:AF$4<>"Sa")*(B$4:AF$4<>"So"))+0.5*SUMPRODUCT((B9:AF9="H")*(B$2:AF$2="")*(B$4:AF$4<>"Sa")*(B$4:AF$4<>"So")) -> 0
A10: =IF('Übersicht'!A10="","",'Übersicht'!A10) | AG10: =SUMPRODUCT((B10:AF10="U")*(B$2:AF$2="")*(B$4:AF$4<>"Sa")*(B$4:AF$4<>"So"))+0.5*SUMPRODUCT((B10:AF10="H")*(B$2:AF$2="")*(B$4:AF$4<>"Sa")*(B$4:AF$4<>"So")) -> 0
A11: =IF('Übersicht'!A11="","",'Übersicht'!A11) | AG11: =SUMPRODUCT((B11:AF11="U")*(B$2:AF$2="")*(B$4:AF$4<>"Sa")*(B$4:AF$4<>"So"))+0.5*SUMPRODUCT((B11:AF11="H")*(B$2:AF$2="")*(B$4:AF$4<>"Sa")*(B$4:AF$4<>"So")) -> 0
A12: =IF('Übersicht'!A12="","",'Übersicht'!A12) | AG12: =SUMPRODUCT((B12:AF12="U")*(B$2:AF$2="")*(B$4:AF$4<>"Sa")*(B$4:AF$4<>"So"))+0.5*SUMPRODUCT((B12:AF12="H")*(B$2:AF$2="")*(B$4:AF$4<>"Sa")*(B$4:AF$4<>"So")) -> 0
A13: =IF('Übersicht'!A13="","",'Übersicht'!A13) | AG13: =SUMPRODUCT((B13:AF13="U")*(B$2:AF$2="")*(B$4:AF$4<>"Sa")*(B$4:AF$4<>"So"))+0.5*SUMPRODUCT((B13:AF13="H")*(B$2:AF$2="")*(B$4:AF$4<>"Sa")*(B$4:AF$4<>"So")) -> 0
A14: =IF('Übersicht'!A14="","",'Übersicht'!A14) | AG14: =SUMPRODUCT((B14:AF14="U")*(B$2:AF$2="")*(B$4:AF$4<>"Sa")*(B$4:AF$4<>"So"))+0.5*SUMPRODUCT((B14:AF14="H")*(B$2:AF$2="")*(B$4:AF$4<>"Sa")*(B$4:AF$4<>"So")) -> 0
A15: =IF('Übersicht'!A15="","",'Übersicht'!A15) | AG15: =SUMPRODUCT((B15:AF15="U")*(B$2:AF$2="")*(B$4:AF$4<>"Sa")*(B$4:AF$4<>"So"))+0.5*SUMPRODUCT((B15:AF15="H")*(B$2:AF$2="")*(B$4:AF$4<>"Sa")*(B$4:AF$4<>"So")) -> 0
A16: =IF('Übersicht'!A16="","",'Übersicht'!A16) | AG16: =SUMPRODUCT((B16:AF16="U")*(B$2:AF$2="")*(B$4:AF$4<>"Sa")*(B$4:AF$4<>"So"))+0.5*SUMPRODUCT((B16:AF16="H")*(B$2:AF$2="")*(B$4:AF$4<>"Sa")*(B$4:AF$4<>"So")) -> 0
... A34: =IF('Übersicht'!A34="","",'Übersicht'!A34) | AG34: =SUMPRODUCT((B34:AF34="U")*(B$2:AF$2="")*(B$4:AF$4<>"Sa")*(B$4:AF$4<>"So"))+0.5*SUMPRODUCT((B34:AF34="H")*(B$2:AF$2="")*(B$4:AF$4<>"Sa")*(B$4:AF$4<>"So")) -> 0

Sheet Feiertage
A1: Datum | B1: Feiertag | C1: Baden-Württemberg | D1: Bayern | E1: Berlin | F1: Brandenburg | G1: Bremen | H1: Hamburg | I1: Hessen | J1: Mecklenburg-Vorpommern | K1: Niedersachsen | L1: Nordrhein-Westfalen | M1: Rheinland-Pfalz | N1: Saarland | O1: Sachsen | P1: Sachsen-Anhalt | Q1: Schleswig-Holstein | R1: Thüringen
A2: 46388 | B2: Neujahr | C2: x | D2: x | E2: x | F2: x | G2: x | H2: x | I2: x | J2: x | K2: x | L2: x | M2: x | N2: x | O2: x | P2: x | Q2: x | R2: x
A3: 46393 | B3: Heilige Drei Könige | C3: x | D3: x | P3: x
A4: 46454 | B4: Internationaler Frauentag | E4: x | J4: x
A5: 46472 | B5: Karfreitag | C5: x | D5: x | E5: x | F5: x | G5: x | H5: x | I5: x | J5: x | K5: x | L5: x | M5: x | N5: x | O5: x | P5: x | Q5: x | R5: x
A6: 46474 | B6: Ostersonntag | F6: x
A7: 46475 | B7: Ostermontag | C7: x | D7: x | E7: x | F7: x | G7: x | H7: x | I7: x | J7: x | K7: x | L7: x | M7: x | N7: x | O7: x | P7: x | Q7: x | R7: x
A8: 46508 | B8: Tag der Arbeit | C8: x | D8: x | E8: x | F8: x | G8: x | H8: x | I8: x | J8: x | K8: x | L8: x | M8: x | N8: x | O8: x | P8: x | Q8: x | R8: x
A9: 46513 | B9: Christi Himmelfahrt | C9: x | D9: x | E9: x | F9: x | G9: x | H9: x | I9: x | J9: x | K9: x | L9: x | M9: x | N9: x | O9: x | P9: x | Q9: x | R9: x
A10: 46523 | B10: Pfingstsonntag | F10: x
A11: 46524 | B11: Pfingstmontag | C11: x | D11: x | E11: x | F11: x | G11: x | H11: x | I11: x | J11: x | K11: x | L11: x | M11: x | N11: x | O11: x | P11: x | Q11: x | R11: x
A12: 46534 | B12: Fronleichnam | C12: x | D12: x | I12: x | L12: x | M12: x | N12: x
A13: 46614 | B13: Mariä Himmelfahrt | N13: x
A14: 46650 | B14: Weltkindertag | R14: x
A15: 46663 | B15: Tag der Deutschen Einheit | C15: x | D15: x | E15: x | F15: x | G15: x | H15: x | I15: x | J15: x | K15: x | L15: x | M15: x | N15: x | O15: x | P15: x | Q15: x | R15: x
A16: 46691 | B16: Reformationstag | F16: x | G16: x | H16: x | J16: x | K16: x | O16: x | P16: x | Q16: x | R16: x
A17: 46692 | B17: Allerheiligen | C17: x | D17: x | L17: x | M17: x | N17: x
A18: 46708 | B18: Buß- und Bettag | O18: x
A19: 46746 | B19: 1. Weihnachtstag | C19: x | D19: x | E19: x | F19: x | G19: x | H19: x | I19: x | J19: x | K19: x | L19: x | M19: x | N19: x | O19: x | P19: x | Q19: x | R19: x
A20: 46747 | B20: 2. Weihnachtstag | C20: x | D20: x | E20: x | F20: x | G20: x | H20: x | I20: x | J20: x | K20: x | L20: x | M20: x | N20: x | O20: x | P20: x | Q20: x | R20: x
A22: Quelle: Feiertagsgesetze der Länder, Stand 25.10.2026. Regionale Feiertage einzelner Gemeinden sind nicht enthalten.
